BEGIN:VCALENDAR
VERSION:2.0
PRODID:-//Wayahead - ECPv6.15.20//NONSGML v1.0//EN
CALSCALE:GREGORIAN
METHOD:PUBLISH
X-ORIGINAL-URL:https://wayahead.org.au
X-WR-CALDESC:Events for Wayahead
REFRESH-INTERVAL;VALUE=DURATION:PT1H
X-Robots-Tag:noindex
X-PUBLISHED-TTL:PT1H
BEGIN:VTIMEZONE
TZID:Australia/Sydney
BEGIN:STANDARD
TZOFFSETFROM:+1100
TZOFFSETTO:+1000
TZNAME:AEST
DTSTART:20250405T160000
END:STANDARD
BEGIN:DAYLIGHT
TZOFFSETFROM:+1000
TZOFFSETTO:+1100
TZNAME:AEDT
DTSTART:20251004T160000
END:DAYLIGHT
BEGIN:STANDARD
TZOFFSETFROM:+1100
TZOFFSETTO:+1000
TZNAME:AEST
DTSTART:20260404T160000
END:STANDARD
BEGIN:DAYLIGHT
TZOFFSETFROM:+1000
TZOFFSETTO:+1100
TZNAME:AEDT
DTSTART:20261003T160000
END:DAYLIGHT
BEGIN:STANDARD
TZOFFSETFROM:+1100
TZOFFSETTO:+1000
TZNAME:AEST
DTSTART:20270403T160000
END:STANDARD
BEGIN:DAYLIGHT
TZOFFSETFROM:+1000
TZOFFSETTO:+1100
TZNAME:AEDT
DTSTART:20271002T160000
END:DAYLIGHT
END:VTIMEZONE
BEGIN:VEVENT
DTSTART;TZID=Australia/Sydney:20260511T183000
DTEND;TZID=Australia/Sydney:20260511T203000
DTSTAMP:20260420T055659
CREATED:20260312T043205Z
LAST-MODIFIED:20260312T043206Z
UID:10005912-1778524200-1778531400@wayahead.org.au
SUMMARY:Cronulla Anxiety Support Group
DESCRIPTION:You must register if you wish to attend this group.  You can register by emailing supportgroups@wayahead.org.au or by phone 1300 794 992.\n\nWayahead’s Cronulla Anxiety Support Group is run by Angela and Trecia at Cronulla RSL on the 2nd Monday of the month from 6.30pm to 8.30pm. \nOur groups are usually comprised of a small number of people who come together to share personal experiences and information in a safe\, friendly and supportive environment. \nAll Wayahead support groups are free of charge. \nSoldiers Room 4\, Cronulla RSL\, 38 Gerrale St\, Cronulla \nIMPORTANT – This is not a treatment group. It is a place where people who are impacted by anxiety can give and receive support related to living with and managing their anxiety. It is facilitated by trained volunteers who have a diverse range of experiences but who are not qualified health professionals. As such\, this group is not suitable for people with high levels of mental distress which may be associated with psychosis\, severe depression or active post traumatic stress disorder (PTSD). We recommend that you do not attend this group if you are experiencing high levels of distress as it is unlikely that it will able to meet your needs. \nFor more information\, or to discuss whether this group is suitable for you\, please call 1300 794 992 or email supportgroups@wayahead.org.au.
URL:https://wayahead.org.au/event/cronulla-anxiety-support-group-2/2026-05-11/
LOCATION:Cronulla RSL\, 38R Gerrale St\, Cronulla NSW 2230\, Cronulla\, New South Wales\, 2230\, Australia
CATEGORIES:Anxiety Program Events
ATTACH;FMTTYPE=image/jpeg:https://wayahead.org.au/wp-content/uploads/2025/01/ASG-online-group.jpg
END:VEVENT
BEGIN:VEVENT
DTSTART;TZID=Australia/Sydney:20260512T130000
DTEND;TZID=Australia/Sydney:20260512T140000
DTSTAMP:20260420T055659
CREATED:20250826T080742Z
LAST-MODIFIED:20250826T083717Z
UID:10007671-1778590800-1778594400@wayahead.org.au
SUMMARY:Living with Anxiety Online Support Group
DESCRIPTION:Living with Anxiety: Online Peer Support Group is a free\, weekly space for people living with anxiety to connect with others who understand. Anxiety can be isolating\, especially for those living regionally\, caring for others\, retired\, in recovery\, managing chronic health conditions\, taking time away from work or study\, or finding it hard to leave the house. This group offers a safe and calm\, peer-led space where you can feel a little less alone in anxiety. There’s no pressure to speak. You’re welcome to listen\, share\, or simply be present. We meet via Zoom every Tuesday from 1 to 2pm.
URL:https://wayahead.org.au/event/living-with-anxiety-online-support-group-4/2026-05-12/
LOCATION:wayahead-org-au.zoom.us/j/84065444111?pwd=RW9zMmFWTldHbktralFCY1o3NkpIQT09
CATEGORIES:Anxiety Program Events
END:VEVENT
BEGIN:VEVENT
DTSTART;TZID=Australia/Sydney:20260512T183000
DTEND;TZID=Australia/Sydney:20260512T203000
DTSTAMP:20260420T055659
CREATED:20250130T023136Z
LAST-MODIFIED:20260311T054126Z
UID:10001566-1778610600-1778617800@wayahead.org.au
SUMMARY:Campbelltown Anxiety Support Group
DESCRIPTION:You must register if you wish to attend this group.  You can register by emailing supportgroups@wayahead.org.au or by phone 1300 794 992. \nWayahead’s Campbelltown Anxiety Support Group is run by Olga and Raj in the Multipurpose Room of the Campbelltown Uniting Church on the 2nd Tuesday of the month from 6.30pm to 8.30pm. \nOur groups are usually comprised of a small number of people who come together to share personal experiences and information in a safe\, friendly and supportive environment. \nAll Wayahead support groups are free of charge. \nProspective attendees are advised to check this page in the days before the group is scheduled to take place to make sure there haven’t been any changes or cancellations. Any such deviations from the information above will be announced in orange at the top of the page. \nIMPORTANT – This is not a treatment group. It is a place where people who are impacted by anxiety can give and receive support related to living with and managing their anxiety. It is facilitated by trained volunteers who have a diverse range of experiences but who are not qualified health professionals. As such\, this group is not suitable for people with high levels of mental distress which may be associated with psychosis\, severe depression or active post traumatic stress disorder (PTSD). We recommend that you do not attend this group if you are experiencing high levels of distress as it is unlikely that it will able to meet your needs. \nFor more information\, or to discuss whether this group is suitable for you\, please call 1300 794 992 or email supportgroups@wayahead.org.au.
URL:https://wayahead.org.au/event/campbelltown-anxiety-support-group-9/2026-05-12/
LOCATION:Campbelltown Uniting Church\, Allman Street\, Moore-Oxley Bypass\, Campbelltown\, NSW\, 2560\, Australia
CATEGORIES:Anxiety Program Events
ATTACH;FMTTYPE=image/jpeg:https://wayahead.org.au/wp-content/uploads/2025/01/ASG-online-group.jpg
GEO:'-34.0699591;150.8133696
X-APPLE-STRUCTURED-LOCATION;VALUE=URI;X-ADDRESS=Campbelltown Uniting Church Allman Street Moore-Oxley Bypass Campbelltown NSW 2560 Australia;X-APPLE-RADIUS=500;X-TITLE=Allman Street\, Moore-Oxley Bypass:geo:150.8133696,'-34.0699591
END:VEVENT
BEGIN:VEVENT
DTSTART;TZID=Australia/Sydney:20260512T190000
DTEND;TZID=Australia/Sydney:20260512T210000
DTSTAMP:20260420T055659
CREATED:20260225T011352Z
LAST-MODIFIED:20260225T011353Z
UID:10008484-1778612400-1778619600@wayahead.org.au
SUMMARY:Bondi Junction Support Group
DESCRIPTION:Join Lisa\, Simon and Tom and members of the Bondi Junction Support Group on the 2nd Tuesday of the month at 7pm in Room A\, Bondi School of Arts\, 138 Bondi Road\, Bondi.
URL:https://wayahead.org.au/event/bondi-junction-support-group-11-2-2/2026-05-12/
LOCATION:Bondi School of Arts\, 138 Bondi Road\, Bondi
CATEGORIES:Anxiety Program Events
END:VEVENT
BEGIN:VEVENT
DTSTART;TZID=Australia/Sydney:20260513T180000
DTEND;TZID=Australia/Sydney:20260513T200000
DTSTAMP:20260420T055659
CREATED:20250821T074701Z
LAST-MODIFIED:20250821T075430Z
UID:10007578-1778695200-1778702400@wayahead.org.au
SUMMARY:Living with Panic Online Support Group
DESCRIPTION:Living with Panic Online Support Group is a free\, monthly space for people who experience panic attacks to connect with others who understand. Panic attacks can be isolating. This group offers a safe and calm\, peer-led space where you can feel a little less alone. There’s no pressure to speak. You’re welcome to listen\, share\, or simply be present. \nThe group takes place every 2nd Wednesday of the month at 6pm. \nIMPORTANT – This is not a treatment group. It is a place where people who are impacted by anxiety can give and receive support related to living with and managing their anxiety. It is facilitated by trained volunteers who have a diverse range of experiences but who are not qualified health professionals. As such\, this group is not suitable for people with high levels of mental distress which may be associated with psychosis\, severe depression or active post traumatic stress disorder (PTSD). We recommend that you do not attend this group if you are experiencing high levels of distress as it is unlikely that it will able to meet your needs. \nFor more information\, or to discuss whether this group is suitable for you\, please call 1300 794 992 or email supportgroups@wayahead.org.au.
URL:https://wayahead.org.au/event/living-with-panic-online-support-group/2026-05-13/
LOCATION:https://wayahead-org-au.zoom.us/j/88023585572?pwd=1kHC3trZOae5MBVl6lioSgkDW8OsTT.1
CATEGORIES:Anxiety Program Events
ATTACH;FMTTYPE=image/jpeg:https://wayahead.org.au/wp-content/uploads/2025/01/ASG-online-group.jpg
END:VEVENT
BEGIN:VEVENT
DTSTART;TZID=Australia/Sydney:20260514T180000
DTEND;TZID=Australia/Sydney:20260514T200000
DTSTAMP:20260420T055659
CREATED:20260319T033441Z
LAST-MODIFIED:20260319T033535Z
UID:10005390-1778781600-1778788800@wayahead.org.au
SUMMARY:Sharing Anxiety Experiences Peer Support Group
DESCRIPTION:Wayahead’s Sharing Anxiety Experiences Peer Support group is run by Jennifer\, Lauren and Wendy on the 2nd Thursday of the month at 6pm. \nIf you would like to attend this group please register here \nOur online groups are usually comprised of a small number of people who come together over Zoom to share personal experiences and information in a safe\, friendly and supportive environment. \nAll Wayahead support groups are free of charge. \nIMPORTANT – This is not a treatment group. It is a place where people who are impacted by anxiety can give and receive support related to living with and managing their anxiety. It is facilitated by trained volunteers who have a diverse range of experiences but who are not qualified health professionals. As such\, this group is not suitable for people with high levels of mental distress which may be associated with psychosis\, severe depression or active post traumatic stress disorder (PTSD). We recommend that you do not attend this group if you are experiencing high levels of distress as it is unlikely that it will able to meet your needs. \nFor more information\, or to discuss whether this group is suitable for you\, please call 1300 794 992 or email supportgroups@wayahead.org.au.
URL:https://wayahead.org.au/event/connect-share-learn-online-anxiety-support-group-8-2-2/2026-05-14/
LOCATION:Venue TBA\, New South Wales\, Australia
CATEGORIES:Anxiety Program Events
ATTACH;FMTTYPE=image/jpeg:https://wayahead.org.au/wp-content/uploads/2025/01/ASG-online-group-1.jpg
GEO:'-33.886186;151.2085076
END:VEVENT
BEGIN:VEVENT
DTSTART;TZID=Australia/Sydney:20260516T100000
DTEND;TZID=Australia/Sydney:20260516T120000
DTSTAMP:20260420T055659
CREATED:20250130T041837Z
LAST-MODIFIED:20250130T041837Z
UID:10003708-1778925600-1778932800@wayahead.org.au
SUMMARY:Springwood Anxiety Support Group
DESCRIPTION:You must register if you wish to attend this group.  You can register by emailing supportgroups@wayahead.org.au or by phone 9339 6013.\nWayahead’s Springwood Anxiety Support Group is run by Jacqui and Rachel at the Tanderra on the 3rd Saturday of the month from 10am to 12 noon. \nThe meeting takes place through the first door to the right. \nOur groups usually comprised of a small number of people who come together to share personal experiences and information in a safe\, friendly and supportive environment. \nAll Wayahead support groups are free of charge. \nIMPORTANT – This is not a treatment group. It is a place where people who are impacted by anxiety can give and receive support related to living with and managing their anxiety. It is facilitated by trained volunteers who have a diverse range of experiences but who are not qualified health professionals. As such\, this group is not suitable for people with high levels of mental distress which may be associated with psychosis\, severe depression or active post traumatic stress disorder (PTSD). We recommend that you do not attend this group if you are experiencing high levels of distress as it is unlikely that it will able to meet your needs. \nFor more information\, or to discuss whether this group is suitable for you\, please call 1300 794 992 or email supportgroups@wayahead.org.au.
URL:https://wayahead.org.au/event/springwood-anxiety-support-group/2026-05-16/
LOCATION:Tanderra\, 14 Raymond Road\, Springwood\, New South Wales\, 2777\, Australia
CATEGORIES:Anxiety Program Events
ATTACH;FMTTYPE=image/jpeg:https://wayahead.org.au/wp-content/uploads/2025/01/ASG-online-group.jpg
GEO:'-33.6969247;150.5537434
X-APPLE-STRUCTURED-LOCATION;VALUE=URI;X-ADDRESS=Tanderra 14 Raymond Road Springwood New South Wales 2777 Australia;X-APPLE-RADIUS=500;X-TITLE=14 Raymond Road:geo:150.5537434,'-33.6969247
END:VEVENT
BEGIN:VEVENT
DTSTART;TZID=Australia/Sydney:20260516T113000
DTEND;TZID=Australia/Sydney:20260516T133000
DTSTAMP:20260420T055659
CREATED:20250130T041429Z
LAST-MODIFIED:20250130T041628Z
UID:10003468-1778931000-1778938200@wayahead.org.au
SUMMARY:Newtown Anxiety Support Group
DESCRIPTION:You must register if you wish to attend this group.  You can register by emailing supportgroups@wayahead.org.au or by phone 1300 794 992.\nWayahead’s Newtown Anxiety Support Group is run by Paul & Trish at the Newtown Neighbourhood Centre on the 3rd Saturday of the month from 11.30am to 1.30pm.  The group meets in the Rainbow Room.  Please buzz the Rainbow Room if the front door is locked. \nOur groups are usually comprised of a small number of people who come together to share personal experiences and information in a safe\, friendly and supportive environment. \nAll Wayahead support groups are free of charge. \nIMPORTANT – This is not a treatment group. It is a place where people who are impacted by anxiety can give and receive support related to living with and managing their anxiety. It is facilitated by trained volunteers who have a diverse range of experiences but who are not qualified health professionals. As such\, this group is not suitable for people with high levels of mental distress which may be associated with psychosis\, severe depression or active post traumatic stress disorder (PTSD). We recommend that you do not attend this group if you are experiencing high levels of distress as it is unlikely that it will able to meet your needs. \nFor more information\, or to discuss whether this group is suitable for you\, please call 1300 794 992 or email supportgroups@wayahead.org.au.
URL:https://wayahead.org.au/event/newtown-anxiety-support-group/2026-05-16/
LOCATION:Newtown Neighbourhood Centre\, 11/13 Darley St\, Newtown\, New South Wales\, 2042\, Australia
CATEGORIES:Anxiety Program Events
ATTACH;FMTTYPE=image/jpeg:https://wayahead.org.au/wp-content/uploads/2025/01/ASG-online-group.jpg
GEO:'-33.8973032;151.1784774
X-APPLE-STRUCTURED-LOCATION;VALUE=URI;X-ADDRESS=Newtown Neighbourhood Centre 11/13 Darley St Newtown New South Wales 2042 Australia;X-APPLE-RADIUS=500;X-TITLE=11/13 Darley St:geo:151.1784774,'-33.8973032
END:VEVENT
BEGIN:VEVENT
DTSTART;TZID=Australia/Sydney:20260516T140000
DTEND;TZID=Australia/Sydney:20260516T160000
DTSTAMP:20260420T055659
CREATED:20260312T042122Z
LAST-MODIFIED:20260312T042124Z
UID:10004488-1778940000-1778947200@wayahead.org.au
SUMMARY:Darlinghurst OCD Support Group
DESCRIPTION:You must register if you wish to attend this group.  You can register by emailing supportgroups@wayahead.org.au or by phone 1300 794 992.\nWayahead’s Darlinghurst OCD Support Group is run by Kevin and Zac at the Darlinghurst Community Space\, 277 Bourke St\, Darlinghurst on the 3rd Saturday of the month from 2pm to 4pm. \nOur groups are usually comprised of a small number of people who come together to share personal experiences and information in a safe\, friendly and supportive environment. \nAll Wayahead support groups are free of charge. \nIMPORTANT – This is not a treatment group. It is a place where people who are impacted by anxiety can give and receive support related to living with and managing their anxiety. It is facilitated by trained volunteers who have a diverse range of experiences but who are not qualified health professionals. As such\, this group is not suitable for people with high levels of mental distress which may be associated with psychosis\, severe depression or active post traumatic stress disorder (PTSD). We recommend that you do not attend this group if you are experiencing high levels of distress as it is unlikely that it will able to meet your needs. \nFor more information\, or to discuss whether this group is suitable for you\, please call 1300 794 992 or email supportgroups@wayahead.org.au.
URL:https://wayahead.org.au/event/darlinghurst-ocd-support-group-2/2026-05-16/
LOCATION:Darlinghurst Community Centre\, 277 Bourke Street\, Darlinghurst\, NSW\, 1300\, Australia
CATEGORIES:Anxiety Program Events
ATTACH;FMTTYPE=image/jpeg:https://wayahead.org.au/wp-content/uploads/2025/01/ASG-online-group.jpg
END:VEVENT
BEGIN:VEVENT
DTSTART;TZID=Australia/Sydney:20260516T170000
DTEND;TZID=Australia/Sydney:20260516T183000
DTSTAMP:20260420T055659
CREATED:20260312T014446Z
LAST-MODIFIED:20260319T033712Z
UID:10008553-1778950800-1778956200@wayahead.org.au
SUMMARY:Men's Online Anxiety Support Group
DESCRIPTION:Wayahead’s Men’s Online Anxiety Support group is run by John and Akhilesh on the 3rd Saturday of the month at 5pm. \nIf you would like to attend this group please register here \nOur online groups are usually comprised of a small number of people who come together over Zoom to share personal experiences and information in a safe\, friendly and supportive environment. \nAll Wayahead support groups are free of charge. \nIMPORTANT – This is not a treatment group. It is a place where people who are impacted by anxiety can give and receive support related to living with and managing their anxiety. It is facilitated by trained volunteers who have a diverse range of experiences but who are not qualified health professionals. As such\, this group is not suitable for people with high levels of mental distress which may be associated with psychosis\, severe depression or active post traumatic stress disorder (PTSD). We recommend that you do not attend this group if you are experiencing high levels of distress as it is unlikely that it will able to meet your needs. \nFor more information\, or to discuss whether this group is suitable for you\, please call 1300 794 992 or email supportgroups@wayahead.org.au.
URL:https://wayahead.org.au/event/mens-online-anxiety-support-group-2/2026-05-16/
LOCATION:Venue TBA\, New South Wales\, Australia
CATEGORIES:Anxiety Program Events
ATTACH;FMTTYPE=image/jpeg:https://wayahead.org.au/wp-content/uploads/2025/01/ASG-Mens-Group.jpg
GEO:'-33.886186;151.2085076
END:VEVENT
END:VCALENDAR