BEGIN:VCALENDAR
VERSION:2.0
PRODID:-//Wayahead - ECPv6.15.20//NONSGML v1.0//EN
CALSCALE:GREGORIAN
METHOD:PUBLISH
X-ORIGINAL-URL:https://wayahead.org.au
X-WR-CALDESC:Events for Wayahead
REFRESH-INTERVAL;VALUE=DURATION:PT1H
X-Robots-Tag:noindex
X-PUBLISHED-TTL:PT1H
BEGIN:VTIMEZONE
TZID:Australia/Sydney
BEGIN:STANDARD
TZOFFSETFROM:+1100
TZOFFSETTO:+1000
TZNAME:AEST
DTSTART:20250405T160000
END:STANDARD
BEGIN:DAYLIGHT
TZOFFSETFROM:+1000
TZOFFSETTO:+1100
TZNAME:AEDT
DTSTART:20251004T160000
END:DAYLIGHT
BEGIN:STANDARD
TZOFFSETFROM:+1100
TZOFFSETTO:+1000
TZNAME:AEST
DTSTART:20260404T160000
END:STANDARD
BEGIN:DAYLIGHT
TZOFFSETFROM:+1000
TZOFFSETTO:+1100
TZNAME:AEDT
DTSTART:20261003T160000
END:DAYLIGHT
BEGIN:STANDARD
TZOFFSETFROM:+1100
TZOFFSETTO:+1000
TZNAME:AEST
DTSTART:20270403T160000
END:STANDARD
BEGIN:DAYLIGHT
TZOFFSETFROM:+1000
TZOFFSETTO:+1100
TZNAME:AEDT
DTSTART:20271002T160000
END:DAYLIGHT
END:VTIMEZONE
BEGIN:VEVENT
DTSTART;TZID=Australia/Sydney:20260407T120000
DTEND;TZID=Australia/Sydney:20260407T140000
DTSTAMP:20260420T024009
CREATED:20250130T042353Z
LAST-MODIFIED:20260121T044234Z
UID:10008256-1775563200-1775570400@wayahead.org.au
SUMMARY:Wyoming Anxiety Support Group
DESCRIPTION:You must register if you wish to attend this group.  You can register by emailing supportgroups@wayahead.org.au or by phone 1300 794 992.\nWayahead’s Wyoming Anxiety Support Group is run by Geoff and Tim at the Wyoming Community Centre on the 1st Tuesday of the month from 12pm to 2pm. \nOur groups are usually comprised of a small number of people who come together to share personal experiences and information in a safe\, friendly and supportive environment. \nAll Wayahead support groups are free of charge. \nIMPORTANT – This is not a treatment group. It is a place where people who are impacted by anxiety can give and receive support related to living with and managing their anxiety. It is facilitated by trained volunteers who have a diverse range of experiences but who are not qualified health professionals. As such\, this group is not suitable for people with high levels of mental distress which may be associated with psychosis\, severe depression or active post traumatic stress disorder (PTSD). We recommend that you do not attend this group if you are experiencing high levels of distress as it is unlikely that it will able to meet your needs. \nFor more information\, or to discuss whether this group is suitable for you\, please call 1300 794 992 or email supportgroups@wayahead.org.au.
URL:https://wayahead.org.au/event/wyoming-anxiety-support-group/2026-04-07/
LOCATION:Wyoming Community Centre\, 147 Maidens Brush Rd\, Wyoming\, New South Wales\, 2250\, Australia
CATEGORIES:Anxiety Program Events
ATTACH;FMTTYPE=image/jpeg:https://wayahead.org.au/wp-content/uploads/2025/01/ASG-online-group.jpg
GEO:'-33.4098123;151.3660688
X-APPLE-STRUCTURED-LOCATION;VALUE=URI;X-ADDRESS=Wyoming Community Centre 147 Maidens Brush Rd Wyoming New South Wales 2250 Australia;X-APPLE-RADIUS=500;X-TITLE=147 Maidens Brush Rd:geo:151.3660688,'-33.4098123
END:VEVENT
BEGIN:VEVENT
DTSTART;TZID=Australia/Sydney:20260407T180000
DTEND;TZID=Australia/Sydney:20260407T200000
DTSTAMP:20260420T024009
CREATED:20250130T044308Z
LAST-MODIFIED:20250130T044308Z
UID:10004967-1775584800-1775592000@wayahead.org.au
SUMMARY:Social Anxiety Online Support Group
DESCRIPTION:Wayahead’s Social Anxiety Online Anxiety Support group is run by Dayan and Perry on the 1st & 3rd Tuesday of the month at 6pm. \nIf you would like to attend this group please register here\nOur online groups are usually comprised of a small number of people who come together over Zoom to share personal experiences and information in a safe\, friendly and supportive environment. \nAll Wayahead support groups are free of charge. \nIMPORTANT – This is not a treatment group. It is a place where people who are impacted by anxiety can give and receive support related to living with and managing their anxiety. It is facilitated by trained volunteers who have a diverse range of experiences but who are not qualified health professionals. As such\, this group is not suitable for people with high levels of mental distress which may be associated with psychosis\, severe depression or active post traumatic stress disorder (PTSD). We recommend that you do not attend this group if you are experiencing high levels of distress as it is unlikely that it will able to meet your needs. \nFor more information\, or to discuss whether this group is suitable for you\, please call 1300 794 992 or email supportgroups@wayahead.org.au.
URL:https://wayahead.org.au/event/social-anxiety-online-support-group-21/2026-04-07/
LOCATION:Venue TBA\, New South Wales\, Australia
CATEGORIES:Anxiety Program Events
ATTACH;FMTTYPE=image/jpeg:https://wayahead.org.au/wp-content/uploads/2025/01/ASG-online-group-1.jpg
GEO:'-33.886186;151.2085076
END:VEVENT
BEGIN:VEVENT
DTSTART;TZID=Australia/Sydney:20260407T180000
DTEND;TZID=Australia/Sydney:20260407T200000
DTSTAMP:20260420T024009
CREATED:20260312T042919Z
LAST-MODIFIED:20260312T042921Z
UID:10003947-1775584800-1775592000@wayahead.org.au
SUMMARY:Wollongong Anxiety Support Group
DESCRIPTION:You must register if you wish to attend this group.  You can register by emailing supportgroups@wayahead.org.au or by phone 1300 794 992.\nWayahead’s Wollongong Anxiety Support Group is run by Asha & Yolanda at Wollongong Tennis Club on the 1st Tuesday of the month from 6pm to 8pm. \nOur groups are usually comprised of a small number of people who come together to share personal experiences and information in a safe\, friendly and supportive environment. \nAll Wayahead support groups are free of charge. \nIMPORTANT – This is not a treatment group. It is a place where people who are impacted by anxiety can give and receive support related to living with and managing their anxiety. It is facilitated by trained volunteers who have a diverse range of experiences but who are not qualified health professionals. As such\, this group is not suitable for people with high levels of mental distress which may be associated with psychosis\, severe depression or active post traumatic stress disorder (PTSD). We recommend that you do not attend this group if you are experiencing high levels of distress as it is unlikely that it will able to meet your needs. \nFor more information\, or to discuss whether this group is suitable for you\, please call 1300 794 992 or email supportgroups@wayahead.org.au.
URL:https://wayahead.org.au/event/wollongong-anxiety-support-group-15-2/2026-04-07/
LOCATION:Wollongong Tennis Club\, 37 Foley Street\, Gwynneville\, NSW\, 2500\, Australia
CATEGORIES:Anxiety Program Events
ATTACH;FMTTYPE=image/jpeg:https://wayahead.org.au/wp-content/uploads/2025/01/ASG-online-group.jpg
GEO:'-34.4186249;150.8875567
X-APPLE-STRUCTURED-LOCATION;VALUE=URI;X-ADDRESS=Wollongong Tennis Club 37 Foley Street Gwynneville NSW 2500 Australia;X-APPLE-RADIUS=500;X-TITLE=37 Foley Street:geo:150.8875567,'-34.4186249
END:VEVENT
BEGIN:VEVENT
DTSTART;TZID=Australia/Sydney:20260407T183000
DTEND;TZID=Australia/Sydney:20260407T203000
DTSTAMP:20260420T024009
CREATED:20250130T035304Z
LAST-MODIFIED:20260210T024135Z
UID:10005455-1775586600-1775593800@wayahead.org.au
SUMMARY:Epping Anxiety Support Group
DESCRIPTION:You must register if you wish to attend this group.  You can register by emailing supportgroups@wayahead.org.au or by phone 1300 794 992.\nWayahead’s Epping Anxiety Support Group is run by Kaavya & Sheena at the Epping Learning and Leisure Centre on the 1st Tuesday of the month from 6.30pm to 8.30pm. \nOur groups are usually comprised of a small number of people who come together to share personal experiences and information in a safe\, friendly and supportive environment. \nAll Wayahead support groups are free of charge. \nIMPORTANT – This is not a treatment group. It is a place where people who are impacted by anxiety can give and receive support related to living with and managing their anxiety. It is facilitated by trained volunteers who have a diverse range of experiences but who are not qualified health professionals. As such\, this group is not suitable for people with high levels of mental distress which may be associated with psychosis\, severe depression or active post traumatic stress disorder (PTSD). We recommend that you do not attend this group if you are experiencing high levels of distress as it is unlikely that it will able to meet your needs. \nFor more information\, or to discuss whether this group is suitable for you\, please call 1300 794 992 or email supportgroups@wayahead.org.au.
URL:https://wayahead.org.au/event/epping-anxiety-support-group-7/2026-04-07/
LOCATION:Epping Leisure and Learning Centre\, 1 Chambers Court\, Epping\, New South Wales\, 2121\, Australia
CATEGORIES:Anxiety Program Events
ATTACH;FMTTYPE=image/jpeg:https://wayahead.org.au/wp-content/uploads/2025/01/ASG-online-group.jpg
GEO:'-33.7716048;151.0824825
X-APPLE-STRUCTURED-LOCATION;VALUE=URI;X-ADDRESS=Epping Leisure and Learning Centre 1 Chambers Court Epping New South Wales 2121 Australia;X-APPLE-RADIUS=500;X-TITLE=1 Chambers Court:geo:151.0824825,'-33.7716048
END:VEVENT
BEGIN:VEVENT
DTSTART;TZID=Australia/Sydney:20260407T183000
DTEND;TZID=Australia/Sydney:20260407T203000
DTSTAMP:20260420T024009
CREATED:20250623T074519Z
LAST-MODIFIED:20250627T061628Z
UID:10006695-1775586600-1775593800@wayahead.org.au
SUMMARY:Mona Vale Support Group
DESCRIPTION:  \nYou must register if you wish to attend this group.  You can register by emailing supportgroups@wayahead.org.au or by phone 1300 794 992.\n\nJoin Kerry and members of the Mona Vale Support Group on the 1st Tuesday of the month at 6.30pm at 6 Taronga Place\, Mona Vale (above Wave Pilates Studio). \nOur groups are usually comprised of a small number of people who come together to share personal experiences and information in a safe\, friendly and supportive environment. \nAll Wayahead support groups are free of charge. \nIMPORTANT – This is not a treatment group. It is a place where people who are impacted by anxiety can give and receive support related to living with and managing their anxiety. It is facilitated by trained volunteers who have a diverse range of experiences but who are not qualified health professionals. As such\, this group is not suitable for people with high levels of mental distress which may be associated with psychosis\, severe depression or active post traumatic stress disorder (PTSD). We recommend that you do not attend this group if you are experiencing high levels of distress as it is unlikely that it will able to meet your needs. \nFor more information\, or to discuss whether this group is suitable for you\, please call 1300 794 992 or email supportgroups@wayahead.org.au.
URL:https://wayahead.org.au/event/mona-vale-support-group/2026-04-07/
LOCATION:Mona Vale\, 6 Taronga Place\, Mona Vale\, NSW\, 2103\, Australia
CATEGORIES:Anxiety Program Events
ATTACH;FMTTYPE=image/jpeg:https://wayahead.org.au/wp-content/uploads/2025/01/ASG-online-group.jpg
END:VEVENT
BEGIN:VEVENT
DTSTART;TZID=Australia/Sydney:20260408T180000
DTEND;TZID=Australia/Sydney:20260408T200000
DTSTAMP:20260420T024009
CREATED:20250821T074701Z
LAST-MODIFIED:20250821T075430Z
UID:10007577-1775671200-1775678400@wayahead.org.au
SUMMARY:Living with Panic Online Support Group
DESCRIPTION:Living with Panic Online Support Group is a free\, monthly space for people who experience panic attacks to connect with others who understand. Panic attacks can be isolating. This group offers a safe and calm\, peer-led space where you can feel a little less alone. There’s no pressure to speak. You’re welcome to listen\, share\, or simply be present. \nThe group takes place every 2nd Wednesday of the month at 6pm. \nIMPORTANT – This is not a treatment group. It is a place where people who are impacted by anxiety can give and receive support related to living with and managing their anxiety. It is facilitated by trained volunteers who have a diverse range of experiences but who are not qualified health professionals. As such\, this group is not suitable for people with high levels of mental distress which may be associated with psychosis\, severe depression or active post traumatic stress disorder (PTSD). We recommend that you do not attend this group if you are experiencing high levels of distress as it is unlikely that it will able to meet your needs. \nFor more information\, or to discuss whether this group is suitable for you\, please call 1300 794 992 or email supportgroups@wayahead.org.au.
URL:https://wayahead.org.au/event/living-with-panic-online-support-group/2026-04-08/
LOCATION:https://wayahead-org-au.zoom.us/j/88023585572?pwd=1kHC3trZOae5MBVl6lioSgkDW8OsTT.1
CATEGORIES:Anxiety Program Events
ATTACH;FMTTYPE=image/jpeg:https://wayahead.org.au/wp-content/uploads/2025/01/ASG-online-group.jpg
END:VEVENT
BEGIN:VEVENT
DTSTART;TZID=Australia/Sydney:20260409T180000
DTEND;TZID=Australia/Sydney:20260409T200000
DTSTAMP:20260420T024009
CREATED:20260319T033441Z
LAST-MODIFIED:20260319T033535Z
UID:10005389-1775757600-1775764800@wayahead.org.au
SUMMARY:Sharing Anxiety Experiences Peer Support Group
DESCRIPTION:Wayahead’s Sharing Anxiety Experiences Peer Support group is run by Jennifer\, Lauren and Wendy on the 2nd Thursday of the month at 6pm. \nIf you would like to attend this group please register here \nOur online groups are usually comprised of a small number of people who come together over Zoom to share personal experiences and information in a safe\, friendly and supportive environment. \nAll Wayahead support groups are free of charge. \nIMPORTANT – This is not a treatment group. It is a place where people who are impacted by anxiety can give and receive support related to living with and managing their anxiety. It is facilitated by trained volunteers who have a diverse range of experiences but who are not qualified health professionals. As such\, this group is not suitable for people with high levels of mental distress which may be associated with psychosis\, severe depression or active post traumatic stress disorder (PTSD). We recommend that you do not attend this group if you are experiencing high levels of distress as it is unlikely that it will able to meet your needs. \nFor more information\, or to discuss whether this group is suitable for you\, please call 1300 794 992 or email supportgroups@wayahead.org.au.
URL:https://wayahead.org.au/event/connect-share-learn-online-anxiety-support-group-8-2-2/2026-04-09/
LOCATION:Venue TBA\, New South Wales\, Australia
CATEGORIES:Anxiety Program Events
ATTACH;FMTTYPE=image/jpeg:https://wayahead.org.au/wp-content/uploads/2025/01/ASG-online-group-1.jpg
GEO:'-33.886186;151.2085076
END:VEVENT
BEGIN:VEVENT
DTSTART;TZID=Australia/Sydney:20260410T110000
DTEND;TZID=Australia/Sydney:20260410T130000
DTSTAMP:20260420T024009
CREATED:20250130T042824Z
LAST-MODIFIED:20260225T015210Z
UID:10004247-1775818800-1775826000@wayahead.org.au
SUMMARY:Liverpool Anxiety Support Group
DESCRIPTION:You must register if you wish to attend this group.  You can register by emailing supportgroups@wayahead.org.au or by phone 1300 794 992.\nWayahead’s Liverpool Anxiety Support Group is run by Iqra & Rachel at the Liverpool Community Centre on the 2nd Friday of the month from 11am to 1pm. \nOur groups are usually comprised of a small number of people who come together to share personal experiences and information in a safe\, friendly and supportive environment. \nAll Wayahead support groups are free of charge. \nIMPORTANT – This is not a treatment group. It is a place where people who are impacted by anxiety can give and receive support related to living with and managing their anxiety. It is facilitated by trained volunteers who have a diverse range of experiences but who are not qualified health professionals. As such\, this group is not suitable for people with high levels of mental distress which may be associated with psychosis\, severe depression or active post traumatic stress disorder (PTSD). We recommend that you do not attend this group if you are experiencing high levels of distress as it is unlikely that it will able to meet your needs. \nFor more information\, or to discuss whether this group is suitable for you\, please call 1300 794 992 or email supportgroups@wayahead.org.au.
URL:https://wayahead.org.au/event/liverpool-anxiety-support-group/2026-04-10/
LOCATION:Liverpool Community Centre\, 14B Mill Road\, Liverpool\, Australia
CATEGORIES:Anxiety Program Events
ATTACH;FMTTYPE=image/jpeg:https://wayahead.org.au/wp-content/uploads/2025/01/ASG-online-group.jpg
END:VEVENT
BEGIN:VEVENT
DTSTART;TZID=Australia/Sydney:20260411T110000
DTEND;TZID=Australia/Sydney:20260411T130000
DTSTAMP:20260420T024009
CREATED:20250306T045920Z
LAST-MODIFIED:20260311T053811Z
UID:10001147-1775905200-1775912400@wayahead.org.au
SUMMARY:Ballina Anxiety Support Group
DESCRIPTION:You must register if you wish to attend this group.  You can register by emailing supportgroups@wayahead.org.au or by phone 1300 794 992. \nWayahead’s Ballina Anxiety Support Group is run by Mark and Meg at the CWA Hall on the 2nd Saturday of the month from 11am to 1pm. \nOur groups are usually comprised of a small number of people who come together to share personal experiences and information in a safe\, friendly and supportive environment. \nAll Wayahead support groups are free of charge. \nProspective attendees are advised to check this page in the days before the group is scheduled to take place to make sure there haven’t been any changes or cancellations. Any such deviations from the information above will be announced in orange at the top of the page. \nIMPORTANT – This is not a treatment group. It is a place where people who are impacted by anxiety can give and receive support related to living with and managing their anxiety. It is facilitated by trained volunteers who have a diverse range of experiences but who are not qualified health professionals. As such\, this group is not suitable for people with high levels of mental distress which may be associated with psychosis\, severe depression or active post traumatic stress disorder (PTSD). We recommend that you do not attend this group if you are experiencing high levels of distress as it is unlikely that it will able to meet your needs. \nFor more information\, or to discuss whether this group is suitable for you\, please call 1300 794 992 or email supportgroups@wayahead.org.au.
URL:https://wayahead.org.au/event/ballina-anxiety-support-group-2/2026-04-11/
LOCATION:CWA Hall\, 236 River Street\, Ballina\, NSW\, 2478\, Australia
CATEGORIES:Anxiety Program Events
ATTACH;FMTTYPE=image/jpeg:https://wayahead.org.au/wp-content/uploads/2025/01/ASG-online-group.jpg
END:VEVENT
BEGIN:VEVENT
DTSTART;TZID=Australia/Sydney:20260411T110000
DTEND;TZID=Australia/Sydney:20260411T130000
DTSTAMP:20260420T024009
CREATED:20260113T031522Z
LAST-MODIFIED:20260113T031522Z
UID:10008181-1775905200-1775912400@wayahead.org.au
SUMMARY:Katoomba Anxiety Support Group
DESCRIPTION:
URL:https://wayahead.org.au/event/katoomba-anxiety-support-group-2/2026-04-11/
LOCATION:Katoomba Guide Hall\, 17 Station Street\, 2780
END:VEVENT
BEGIN:VEVENT
DTSTART;TZID=Australia/Sydney:20260411T110000
DTEND;TZID=Australia/Sydney:20260411T130000
DTSTAMP:20260420T024009
CREATED:20260319T034044Z
LAST-MODIFIED:20260319T034045Z
UID:10005327-1775905200-1775912400@wayahead.org.au
SUMMARY:Women's Online Anxiety Support Group
DESCRIPTION:Wayahead’s Women’s Online Anxiety Support group is run by Alishba\, Muuskan and Sandra on the 2nd Saturday of the month at 11am. \nIf you would like to attend this group please register here \nOur online groups are usually comprised of a small number of people who come together over Zoom to share personal experiences and information in a safe\, friendly and supportive environment. \nAll Wayahead support groups are free of charge. \nIMPORTANT – This is not a treatment group. It is a place where people who are impacted by anxiety can give and receive support related to living with and managing their anxiety. It is facilitated by trained volunteers who have a diverse range of experiences but who are not qualified health professionals. As such\, this group is not suitable for people with high levels of mental distress which may be associated with psychosis\, severe depression or active post traumatic stress disorder (PTSD). We recommend that you do not attend this group if you are experiencing high levels of distress as it is unlikely that it will able to meet your needs. \nFor more information\, or to discuss whether this group is suitable for you\, please call 1300 794 992 or email supportgroups@wayahead.org.au.
URL:https://wayahead.org.au/event/womens-online-anxiety-support-group-2-2/2026-04-11/
LOCATION:Venue TBA\, New South Wales\, Australia
CATEGORIES:Anxiety Program Events
ATTACH;FMTTYPE=image/jpeg:https://wayahead.org.au/wp-content/uploads/2025/01/ASG-Mens-Group-1.jpg
GEO:'-33.886186;151.2085076
END:VEVENT
BEGIN:VEVENT
DTSTART;TZID=Australia/Sydney:20260411T123000
DTEND;TZID=Australia/Sydney:20260411T123000
DTSTAMP:20260420T024009
CREATED:20260324T045857Z
LAST-MODIFIED:20260324T050348Z
UID:10007449-1775910600-1775910600@wayahead.org.au
SUMMARY:Surry Hills LGBTI Support Group
DESCRIPTION:You must register if you wish to attend this group.  You can register by emailing supportgroups@wayahead.org.au or by phone 1300 794 992.\n  \nOur groups are usually comprised of a small number of people who come together to share personal experiences and information in a safe\, friendly and supportive environment. \nAll Wayahead support groups are free of charge. \nIMPORTANT – This is not a treatment group. It is a place where people who are impacted by anxiety can give and receive support related to living with and managing their anxiety. It is facilitated by trained volunteers who have a diverse range of experiences but who are not qualified health professionals. As such\, this group is not suitable for people with high levels of mental distress which may be associated with psychosis\, severe depression or active post traumatic stress disorder (PTSD). We recommend that you do not attend this group if you are experiencing high levels of distress as it is unlikely that it will able to meet your needs. \nFor more information\, or to discuss whether this group is suitable for you\, please call 1300 794 992 or email supportgroups@wayahead.org.au.
URL:https://wayahead.org.au/event/surry-hills-lgbti-support-group/
LOCATION:New South Wales
CATEGORIES:Anxiety Program Events
ATTACH;FMTTYPE=image/jpeg:https://wayahead.org.au/wp-content/uploads/2025/01/ASG-online-group.jpg
END:VEVENT
END:VCALENDAR