BEGIN:VCALENDAR
VERSION:2.0
PRODID:-//Wayahead - ECPv6.15.20//NONSGML v1.0//EN
CALSCALE:GREGORIAN
METHOD:PUBLISH
X-ORIGINAL-URL:https://wayahead.org.au
X-WR-CALDESC:Events for Wayahead
REFRESH-INTERVAL;VALUE=DURATION:PT1H
X-Robots-Tag:noindex
X-PUBLISHED-TTL:PT1H
BEGIN:VTIMEZONE
TZID:Australia/Sydney
BEGIN:STANDARD
TZOFFSETFROM:+1100
TZOFFSETTO:+1000
TZNAME:AEST
DTSTART:20260404T160000
END:STANDARD
BEGIN:DAYLIGHT
TZOFFSETFROM:+1000
TZOFFSETTO:+1100
TZNAME:AEDT
DTSTART:20261003T160000
END:DAYLIGHT
BEGIN:STANDARD
TZOFFSETFROM:+1100
TZOFFSETTO:+1000
TZNAME:AEST
DTSTART:20270403T160000
END:STANDARD
BEGIN:DAYLIGHT
TZOFFSETFROM:+1000
TZOFFSETTO:+1100
TZNAME:AEDT
DTSTART:20271002T160000
END:DAYLIGHT
BEGIN:STANDARD
TZOFFSETFROM:+1100
TZOFFSETTO:+1000
TZNAME:AEST
DTSTART:20280401T160000
END:STANDARD
BEGIN:DAYLIGHT
TZOFFSETFROM:+1000
TZOFFSETTO:+1100
TZNAME:AEDT
DTSTART:20280930T160000
END:DAYLIGHT
END:VTIMEZONE
BEGIN:VEVENT
DTSTART;TZID=Australia/Sydney:20270304T183000
DTEND;TZID=Australia/Sydney:20270304T203000
DTSTAMP:20260422T014238
CREATED:20260312T042411Z
LAST-MODIFIED:20260312T042413Z
UID:10008345-1804185000-1804192200@wayahead.org.au
SUMMARY:Doonside Anxiety Support Group
DESCRIPTION:Wayahead’s Doonside Anxiety Support Group is run by Naeem at Doonside Community Centre on the 1st Thursday of the month from 6.30pm to 8.30pm. \nOur groups are usually comprised of a small number of people who come together to share personal experiences and information in a safe\, friendly and supportive environment. \nAll Wayahead support groups are free of charge. \nProspective attendees are advised to check this page in the days before the group is scheduled to take place to make sure there haven’t been any changes or cancellations. Any such deviations from the information above will be announced in orange at the top of the page. \nIMPORTANT – This is not a treatment group. It is a place where people who are impacted by anxiety can give and receive support related to living with and managing their anxiety. It is facilitated by trained volunteers who have a diverse range of experiences but who are not qualified health professionals. As such\, this group is not suitable for people with high levels of mental distress which may be associated with psychosis\, severe depression or active post traumatic stress disorder (PTSD). We recommend that you do not attend this group if you are experiencing high levels of distress as it is unlikely that it will able to meet your needs. \nFor more information\, or to discuss whether this group is suitable for you\, please call 1300 794 992 or email supportgroups@wayahead.org.au.
URL:https://wayahead.org.au/event/doonside-anxiety-support-group-2-2/2027-03-04/
LOCATION:Doonside Community Centre\, Cnr Graham & Hill End Rd\, Doonside\, NSW\, Australia
CATEGORIES:Anxiety Program Events
ATTACH;FMTTYPE=image/jpeg:https://wayahead.org.au/wp-content/uploads/2025/01/ASG-online-group.jpg
END:VEVENT
BEGIN:VEVENT
DTSTART;TZID=Australia/Sydney:20270306T110000
DTEND;TZID=Australia/Sydney:20270306T130000
DTSTAMP:20260422T014238
CREATED:20250130T041253Z
LAST-MODIFIED:20250130T041253Z
UID:10003358-1804330800-1804338000@wayahead.org.au
SUMMARY:Marrickville Anxiety Support Group
DESCRIPTION:You must register if you wish to attend this group.  You can register by emailing supportgroups@wayahead.org.au or by phone 9339 6013.\nWayahead’s Marrickville Anxiety Support Group is run by Emily and Isabel at the Addison Road Centre on the 1st Saturday of the month from 11am to 1pm. \nOur groups are usually comprised of a small number of people who come together to share personal experiences and information in a safe\, friendly and supportive environment. \nAll Wayahead support groups are free of charge. \nIMPORTANT – This is not a treatment group. It is a place where people who are impacted by anxiety can give and receive support related to living with and managing their anxiety. It is facilitated by trained volunteers who have a diverse range of experiences but who are not qualified health professionals. As such\, this group is not suitable for people with high levels of mental distress which may be associated with psychosis\, severe depression or active post traumatic stress disorder (PTSD). We recommend that you do not attend this group if you are experiencing high levels of distress as it is unlikely that it will able to meet your needs. \nFor more information\, or to discuss whether this group is suitable for you\, please call 1300 794 992 or email supportgroups@wayahead.org.au.
URL:https://wayahead.org.au/event/marrickville-anxiety-support-group/2027-03-06/
LOCATION:Bush Music Club\, Hut 44\, Addison Road Centre\, 142 Addison Rd\, Marrickville\, NSW\, 2204\, Australia
CATEGORIES:Anxiety Program Events
ATTACH;FMTTYPE=image/jpeg:https://wayahead.org.au/wp-content/uploads/2025/01/ASG-online-group.jpg
END:VEVENT
BEGIN:VEVENT
DTSTART;TZID=Australia/Sydney:20270306T123000
DTEND;TZID=Australia/Sydney:20270306T143000
DTSTAMP:20260422T014238
CREATED:20250724T061710Z
LAST-MODIFIED:20260419T235029Z
UID:10007460-1804336200-1804343400@wayahead.org.au
SUMMARY:Surry Hills LGBTI Support Group
DESCRIPTION:You must register if you wish to attend this group.  You can register by emailing supportgroups@wayahead.org.au or by phone 1300 794 992.\nWayahead’s Surry hills LGBTI Support group meets on the 1st Saturday of the month from 12:30pm to 2:30pm at ACON\, 414 Elizabeth Street\, Surry Hills.  You must arrive on time for the meeting.  This is a locked venue and members will not be admitted after the meeting has commenced. \nOur groups are usually comprised of a small number of people who come together to share personal experiences and information in a safe\, friendly and supportive environment. \nAll Wayahead support groups are free of charge. \nIMPORTANT – This is not a treatment group. It is a place where people who are impacted by anxiety can give and receive support related to living with and managing their anxiety. It is facilitated by trained volunteers who have a diverse range of experiences but who are not qualified health professionals. As such\, this group is not suitable for people with high levels of mental distress which may be associated with psychosis\, severe depression or active post traumatic stress disorder (PTSD). We recommend that you do not attend this group if you are experiencing high levels of distress as it is unlikely that it will able to meet your needs. \nFor more information\, or to discuss whether this group is suitable for you\, please call 1300 794 992 or email supportgroups@wayahead.org.au.
URL:https://wayahead.org.au/event/surry-hills-lgbti-support-group-2/2027-03-06/
LOCATION:ACON\, 414 Elizabeth St\, Surry Hills\, Australia
CATEGORIES:Anxiety Program Events
ATTACH;FMTTYPE=image/jpeg:https://wayahead.org.au/wp-content/uploads/2025/01/ASG-online-group.jpg
END:VEVENT
BEGIN:VEVENT
DTSTART;TZID=Australia/Sydney:20270306T140000
DTEND;TZID=Australia/Sydney:20270306T160000
DTSTAMP:20260422T014238
CREATED:20260323T023905Z
LAST-MODIFIED:20260323T023906Z
UID:10006538-1804341600-1804348800@wayahead.org.au
SUMMARY:Students' Online Support Group
DESCRIPTION:Wayahead’s Students’ Online Anxiety Support group is run by Anna-Maria\, Gilbert and Mary Crystal on the 1st Saturday of the month at 2pm. \nIf you would like to attend this group please register here \nOur online groups are usually comprised of a small number of people who come together over Zoom to share personal experiences and information in a safe\, friendly and supportive environment. \nAll Wayahead support groups are free of charge. \nIMPORTANT – This is not a treatment group. It is a place where people who are impacted by anxiety can give and receive support related to living with and managing their anxiety. It is facilitated by trained volunteers who have a diverse range of experiences but who are not qualified health professionals. As such\, this group is not suitable for people with high levels of mental distress which may be associated with psychosis\, severe depression or active post traumatic stress disorder (PTSD). We recommend that you do not attend this group if you are experiencing high levels of distress as it is unlikely that it will able to meet your needs. \nFor more information\, or to discuss whether this group is suitable for you\, please call 1300 794 992 or email supportgroups@wayahead.org.au.
URL:https://wayahead.org.au/event/students-online-support-group-2/2027-03-06/
LOCATION:https://wayahead-org-au.zoom.us/j/84137503134
CATEGORIES:Anxiety Program Events
ATTACH;FMTTYPE=image/jpeg:https://wayahead.org.au/wp-content/uploads/2025/01/ASG-online-group-1.jpg
END:VEVENT
BEGIN:VEVENT
DTSTART;TZID=Australia/Sydney:20270306T150000
DTEND;TZID=Australia/Sydney:20270306T170000
DTSTAMP:20260422T014238
CREATED:20260312T042650Z
LAST-MODIFIED:20260312T042651Z
UID:10002055-1804345200-1804352400@wayahead.org.au
SUMMARY:Glebe Anxiety Support Group
DESCRIPTION:You must register if you wish to attend this group.  You can register by emailing supportgroups@wayahead.org.au or by phone 1300 794 992. \nWayahead’s Glebe Anxiety Support Group is run by Rachel and Sue at Glebe Town Hall on the 1st Saturday of the month from 3pm to 5pm. \nOur groups are usually comprised of a small number of people who come together to share personal experiences and information in a safe\, friendly and supportive environment. \nAll Wayahead support groups are free of charge. \nProspective attendees are advised to check this page in the days before the group is scheduled to take place to make sure there haven’t been any changes or cancellations. Any such deviations from the information above will be announced in orange at the top of the page. \nIMPORTANT – This is not a treatment group. It is a place where people who are impacted by anxiety can give and receive support related to living with and managing their anxiety. It is facilitated by trained volunteers who have a diverse range of experiences but who are not qualified health professionals. As such\, this group is not suitable for people with high levels of mental distress which may be associated with psychosis\, severe depression or active post traumatic stress disorder (PTSD). We recommend that you do not attend this group if you are experiencing high levels of distress as it is unlikely that it will able to meet your needs. \nFor more information\, or to discuss whether this group is suitable for you\, please call 1300 794 992 or email supportgroups@wayahead.org.au.
URL:https://wayahead.org.au/event/glebe-anxiety-support-group-2/2027-03-06/
LOCATION:Glebe Town Hall\, 160 St Johns Rd\, Glebe\, New South Wales\, 2037\, Australia
CATEGORIES:Anxiety Program Events
ATTACH;FMTTYPE=image/jpeg:https://wayahead.org.au/wp-content/uploads/2025/01/ASG-online-group.jpg
GEO:'-33.878038;151.185016
X-APPLE-STRUCTURED-LOCATION;VALUE=URI;X-ADDRESS=Glebe Town Hall 160 St Johns Rd Glebe New South Wales 2037 Australia;X-APPLE-RADIUS=500;X-TITLE=160 St Johns Rd:geo:151.185016,'-33.878038
END:VEVENT
BEGIN:VEVENT
DTSTART;TZID=Australia/Sydney:20270308T183000
DTEND;TZID=Australia/Sydney:20270308T203000
DTSTAMP:20260422T014238
CREATED:20260312T043205Z
LAST-MODIFIED:20260312T043206Z
UID:10005922-1804530600-1804537800@wayahead.org.au
SUMMARY:Cronulla Anxiety Support Group
DESCRIPTION:You must register if you wish to attend this group.  You can register by emailing supportgroups@wayahead.org.au or by phone 1300 794 992.\n\nWayahead’s Cronulla Anxiety Support Group is run by Angela and Trecia at Cronulla RSL on the 2nd Monday of the month from 6.30pm to 8.30pm. \nOur groups are usually comprised of a small number of people who come together to share personal experiences and information in a safe\, friendly and supportive environment. \nAll Wayahead support groups are free of charge. \nSoldiers Room 4\, Cronulla RSL\, 38 Gerrale St\, Cronulla \nIMPORTANT – This is not a treatment group. It is a place where people who are impacted by anxiety can give and receive support related to living with and managing their anxiety. It is facilitated by trained volunteers who have a diverse range of experiences but who are not qualified health professionals. As such\, this group is not suitable for people with high levels of mental distress which may be associated with psychosis\, severe depression or active post traumatic stress disorder (PTSD). We recommend that you do not attend this group if you are experiencing high levels of distress as it is unlikely that it will able to meet your needs. \nFor more information\, or to discuss whether this group is suitable for you\, please call 1300 794 992 or email supportgroups@wayahead.org.au.
URL:https://wayahead.org.au/event/cronulla-anxiety-support-group-2/2027-03-08/
LOCATION:Cronulla RSL\, 38R Gerrale St\, Cronulla NSW 2230\, Cronulla\, New South Wales\, 2230\, Australia
CATEGORIES:Anxiety Program Events
ATTACH;FMTTYPE=image/jpeg:https://wayahead.org.au/wp-content/uploads/2025/01/ASG-online-group.jpg
END:VEVENT
BEGIN:VEVENT
DTSTART;TZID=Australia/Sydney:20270309T183000
DTEND;TZID=Australia/Sydney:20270309T203000
DTSTAMP:20260422T014238
CREATED:20250130T023136Z
LAST-MODIFIED:20260311T054126Z
UID:10001576-1804617000-1804624200@wayahead.org.au
SUMMARY:Campbelltown Anxiety Support Group
DESCRIPTION:You must register if you wish to attend this group.  You can register by emailing supportgroups@wayahead.org.au or by phone 1300 794 992. \nWayahead’s Campbelltown Anxiety Support Group is run by Olga and Raj in the Multipurpose Room of the Campbelltown Uniting Church on the 2nd Tuesday of the month from 6.30pm to 8.30pm. \nOur groups are usually comprised of a small number of people who come together to share personal experiences and information in a safe\, friendly and supportive environment. \nAll Wayahead support groups are free of charge. \nProspective attendees are advised to check this page in the days before the group is scheduled to take place to make sure there haven’t been any changes or cancellations. Any such deviations from the information above will be announced in orange at the top of the page. \nIMPORTANT – This is not a treatment group. It is a place where people who are impacted by anxiety can give and receive support related to living with and managing their anxiety. It is facilitated by trained volunteers who have a diverse range of experiences but who are not qualified health professionals. As such\, this group is not suitable for people with high levels of mental distress which may be associated with psychosis\, severe depression or active post traumatic stress disorder (PTSD). We recommend that you do not attend this group if you are experiencing high levels of distress as it is unlikely that it will able to meet your needs. \nFor more information\, or to discuss whether this group is suitable for you\, please call 1300 794 992 or email supportgroups@wayahead.org.au.
URL:https://wayahead.org.au/event/campbelltown-anxiety-support-group-9/2027-03-09/
LOCATION:Campbelltown Uniting Church\, Allman Street\, Moore-Oxley Bypass\, Campbelltown\, NSW\, 2560\, Australia
CATEGORIES:Anxiety Program Events
ATTACH;FMTTYPE=image/jpeg:https://wayahead.org.au/wp-content/uploads/2025/01/ASG-online-group.jpg
GEO:'-34.0699591;150.8133696
X-APPLE-STRUCTURED-LOCATION;VALUE=URI;X-ADDRESS=Campbelltown Uniting Church Allman Street Moore-Oxley Bypass Campbelltown NSW 2560 Australia;X-APPLE-RADIUS=500;X-TITLE=Allman Street\, Moore-Oxley Bypass:geo:150.8133696,'-34.0699591
END:VEVENT
BEGIN:VEVENT
DTSTART;TZID=Australia/Sydney:20270309T190000
DTEND;TZID=Australia/Sydney:20270309T210000
DTSTAMP:20260422T014238
CREATED:20260225T011352Z
LAST-MODIFIED:20260225T011353Z
UID:10008494-1804618800-1804626000@wayahead.org.au
SUMMARY:Bondi Junction Support Group
DESCRIPTION:Join Lisa\, Simon and Tom and members of the Bondi Junction Support Group on the 2nd Tuesday of the month at 7pm in Room A\, Bondi School of Arts\, 138 Bondi Road\, Bondi.
URL:https://wayahead.org.au/event/bondi-junction-support-group-11-2-2/2027-03-09/
LOCATION:Bondi School of Arts\, 138 Bondi Road\, Bondi
CATEGORIES:Anxiety Program Events
END:VEVENT
END:VCALENDAR