BEGIN:VCALENDAR
VERSION:2.0
PRODID:-//Wayahead - ECPv6.15.20//NONSGML v1.0//EN
CALSCALE:GREGORIAN
METHOD:PUBLISH
X-WR-CALNAME:Wayahead
X-ORIGINAL-URL:https://wayahead.org.au
X-WR-CALDESC:Events for Wayahead
REFRESH-INTERVAL;VALUE=DURATION:PT1H
X-Robots-Tag:noindex
X-PUBLISHED-TTL:PT1H
BEGIN:VTIMEZONE
TZID:Australia/Sydney
BEGIN:STANDARD
TZOFFSETFROM:+1100
TZOFFSETTO:+1000
TZNAME:AEST
DTSTART:20250405T160000
END:STANDARD
BEGIN:DAYLIGHT
TZOFFSETFROM:+1000
TZOFFSETTO:+1100
TZNAME:AEDT
DTSTART:20251004T160000
END:DAYLIGHT
BEGIN:STANDARD
TZOFFSETFROM:+1100
TZOFFSETTO:+1000
TZNAME:AEST
DTSTART:20260404T160000
END:STANDARD
BEGIN:DAYLIGHT
TZOFFSETFROM:+1000
TZOFFSETTO:+1100
TZNAME:AEDT
DTSTART:20261003T160000
END:DAYLIGHT
BEGIN:STANDARD
TZOFFSETFROM:+1100
TZOFFSETTO:+1000
TZNAME:AEST
DTSTART:20270403T160000
END:STANDARD
BEGIN:DAYLIGHT
TZOFFSETFROM:+1000
TZOFFSETTO:+1100
TZNAME:AEDT
DTSTART:20271002T160000
END:DAYLIGHT
END:VTIMEZONE
BEGIN:VEVENT
DTSTART;TZID=Australia/Sydney:20260701T180000
DTEND;TZID=Australia/Sydney:20260701T200000
DTSTAMP:20260420T141833
CREATED:20250130T041558Z
LAST-MODIFIED:20250130T041558Z
UID:10003590-1782928800-1782936000@wayahead.org.au
SUMMARY:Port Macquarie Anxiety Support Group
DESCRIPTION:You must register if you wish to attend this group.  You can register by emailing supportgroups@wayahead.org.au or by phone 9339 6013.\nWayahead’s Port Macquarie Anxiety Support Group is run by Carli and Meredith at Port Macquarie Library on the 1st Wednesday of the month from 6pm to 8pm. \nOur groups are usually comprised of a small number of people who come together to share personal experiences and information in a safe\, friendly and supportive environment. \nAll Wayahead support groups are free of charge. \nIMPORTANT – This is not a treatment group. It is a place where people who are impacted by anxiety can give and receive support related to living with and managing their anxiety. It is facilitated by trained volunteers who have a diverse range of experiences but who are not qualified health professionals. As such\, this group is not suitable for people with high levels of mental distress which may be associated with psychosis\, severe depression or active post traumatic stress disorder (PTSD). We recommend that you do not attend this group if you are experiencing high levels of distress as it is unlikely that it will able to meet your needs. \nFor more information\, or to discuss whether this group is suitable for you\, please call 1300 794 992 or email supportgroups@wayahead.org.au.
URL:https://wayahead.org.au/event/port-macquarie-anxiety-support-group/2026-07-01/
LOCATION:Port Macquarie Library\, Grant Street\, Port Macquarie\, NSW\, 2444\, Australia
CATEGORIES:Anxiety Program Events
ATTACH;FMTTYPE=image/jpeg:https://wayahead.org.au/wp-content/uploads/2025/01/ASG-online-group.jpg
END:VEVENT
BEGIN:VEVENT
DTSTART;TZID=Australia/Sydney:20260701T190000
DTEND;TZID=Australia/Sydney:20260701T203000
DTSTAMP:20260420T141833
CREATED:20250130T023633Z
LAST-MODIFIED:20260311T054411Z
UID:10001747-1782932400-1782937800@wayahead.org.au
SUMMARY:Chatswood Anxiety Support Group
DESCRIPTION:You must register if you wish to attend this group.  You can register by emailing supportgroups@wayahead.org.au or by phone 1300 794 992. \nWayahead’s Chatswood Anxiety Support Group is run by Sarah\, Sytuha and Youn meets at the Dougherty Community Centre on the 1st Wednesday of the month from 7pm to 8.30pm. \nThe meeting takes place in the Hideaway Room. \nOur groups are usually comprised of a small number of people who come together to share personal experiences and information in a safe\, friendly and supportive environment. \nAll Wayahead support groups are free of charge. \nProspective attendees are advised to check this page in the days before the group is scheduled to take place to make sure there haven’t been any changes or cancellations. Any such deviations from the information above will be announced in orange at the top of the page. \nIMPORTANT – This is not a treatment group. It is a place where people who are impacted by anxiety can give and receive support related to living with and managing their anxiety. It is facilitated by trained volunteers who have a diverse range of experiences but who are not qualified health professionals. As such\, this group is not suitable for people with high levels of mental distress which may be associated with psychosis\, severe depression or active post traumatic stress disorder (PTSD). We recommend that you do not attend this group if you are experiencing high levels of distress as it is unlikely that it will able to meet your needs. \nFor more information\, or to discuss whether this group is suitable for you\, please call 1300 794 992 or email supportgroups@wayahead.org.au.
URL:https://wayahead.org.au/event/chatswood-anxiety-support-group/2026-07-01/
LOCATION:Dougherty Community Centre\, Hideaway Room\, 7 Victor St\, Chatswood\, New South Wales\, 2067\, Australia
CATEGORIES:Anxiety Program Events
ATTACH;FMTTYPE=image/jpeg:https://wayahead.org.au/wp-content/uploads/2025/01/ASG-online-group.jpg
GEO:'-33.799092;151.182814
X-APPLE-STRUCTURED-LOCATION;VALUE=URI;X-ADDRESS=Dougherty Community Centre Hideaway Room 7 Victor St Chatswood New South Wales 2067 Australia;X-APPLE-RADIUS=500;X-TITLE=Hideaway Room\, 7 Victor St:geo:151.182814,'-33.799092
END:VEVENT
BEGIN:VEVENT
DTSTART;TZID=Australia/Sydney:20260706T180000
DTEND;TZID=Australia/Sydney:20260706T200000
DTSTAMP:20260420T141833
CREATED:20250130T022324Z
LAST-MODIFIED:20250130T022324Z
UID:10001389-1783360800-1783368000@wayahead.org.au
SUMMARY:Camden Anxiety Support Group
DESCRIPTION:  \nYou must register if you wish to attend this group.  You can register by emailing supportgroups@wayahead.org.au or by phone 1300 794 992. \nWayahead’s Camden Anxiety Support Group is run by Olga at Camden Uniting Church on the 1st Monday of the month from 6pm to 8pm. \nOur groups are usually comprised of a small number of people who come together to share personal experiences and information in a safe\, friendly and supportive environment. \nAll Wayahead support groups are free of charge. \nProspective attendees are advised to check this page in the days before the group is scheduled to take place to make sure there haven’t been any changes or cancellations. Any such deviations from the information above will be announced in orange at the top of the page. \nIMPORTANT – This is not a treatment group. It is a place where people who are impacted by anxiety can give and receive support related to living with and managing their anxiety. It is facilitated by trained volunteers who have a diverse range of experiences but who are not qualified health professionals. As such\, this group is not suitable for people with high levels of mental distress which may be associated with psychosis\, severe depression or active post traumatic stress disorder (PTSD). We recommend that you do not attend this group if you are experiencing high levels of distress as it is unlikely that it will able to meet your needs. \nFor more information\, or to discuss whether this group is suitable for you\, please call 1300 794 992 or email supportgroups@wayahead.org.au.
URL:https://wayahead.org.au/event/camden-anxiety-support-group-7/2026-07-06/
LOCATION:Camden Uniting Church\, 20 John Street\, Camden\, NSW\, 2570\, Australia
CATEGORIES:Anxiety Program Events
ATTACH;FMTTYPE=image/jpeg:https://wayahead.org.au/wp-content/uploads/2025/01/ASG-online-group.jpg
GEO:'-34.0522525;150.6947514
X-APPLE-STRUCTURED-LOCATION;VALUE=URI;X-ADDRESS=Camden Uniting Church 20 John Street Camden NSW 2570 Australia;X-APPLE-RADIUS=500;X-TITLE=20 John Street:geo:150.6947514,'-34.0522525
END:VEVENT
BEGIN:VEVENT
DTSTART;TZID=Australia/Sydney:20260706T180000
DTEND;TZID=Australia/Sydney:20260706T200000
DTSTAMP:20260420T141833
CREATED:20250917T071408Z
LAST-MODIFIED:20251219T053321Z
UID:10001085-1783360800-1783368000@wayahead.org.au
SUMMARY:Bankstown Anxiety Support Group
DESCRIPTION:You must register if you wish to attend this group.  You can register by emailing supportgroups@wayahead.org.au or by phone 1300 794 992. \nWayAhead’s Bankstown Anxiety Support Group is run by Samara and Tennesy at Bankstown Arts Centre on the 1st Monday of the month from 6pm to 8pm. \nOur groups are usually comprised of a small number of people who come together to share personal experiences and information in a safe\, friendly and supportive environment. \nAll WayAhead support groups are free of charge. \nProspective attendees are advised to check this page in the days before the group is scheduled to take place to make sure there haven’t been any changes or cancellations. Any such deviations from the information above will be announced in orange at the top of the page. \nIMPORTANT – This is not a treatment group. It is a place where people who are impacted by anxiety can give and receive support related to living with and managing their anxiety. It is facilitated by trained volunteers who have a diverse range of experiences but who are not qualified health professionals. As such\, this group is not suitable for people with high levels of mental distress which may be associated with psychosis\, severe depression or active post traumatic stress disorder (PTSD). We recommend that you do not attend this group if you are experiencing high levels of distress as it is unlikely that it will able to meet your needs. \nFor more information\, or to discuss whether this group is suitable for you\, please call 1300 794 992 or email supportgroups@wayahead.org.au.
URL:https://wayahead.org.au/event/bankstown-anxiety-support-group-4-3/2026-07-06/
LOCATION:Bankstown Arts Centre\, 5 Olypmic Drive\, Bankstown
CATEGORIES:Anxiety Program Events
ATTACH;FMTTYPE=image/jpeg:https://wayahead.org.au/wp-content/uploads/2025/01/ASG-online-group.jpg
END:VEVENT
BEGIN:VEVENT
DTSTART;TZID=Australia/Sydney:20260707T120000
DTEND;TZID=Australia/Sydney:20260707T140000
DTSTAMP:20260420T141833
CREATED:20250130T042353Z
LAST-MODIFIED:20260121T044234Z
UID:10008259-1783425600-1783432800@wayahead.org.au
SUMMARY:Wyoming Anxiety Support Group
DESCRIPTION:You must register if you wish to attend this group.  You can register by emailing supportgroups@wayahead.org.au or by phone 1300 794 992.\nWayahead’s Wyoming Anxiety Support Group is run by Geoff and Tim at the Wyoming Community Centre on the 1st Tuesday of the month from 12pm to 2pm. \nOur groups are usually comprised of a small number of people who come together to share personal experiences and information in a safe\, friendly and supportive environment. \nAll Wayahead support groups are free of charge. \nIMPORTANT – This is not a treatment group. It is a place where people who are impacted by anxiety can give and receive support related to living with and managing their anxiety. It is facilitated by trained volunteers who have a diverse range of experiences but who are not qualified health professionals. As such\, this group is not suitable for people with high levels of mental distress which may be associated with psychosis\, severe depression or active post traumatic stress disorder (PTSD). We recommend that you do not attend this group if you are experiencing high levels of distress as it is unlikely that it will able to meet your needs. \nFor more information\, or to discuss whether this group is suitable for you\, please call 1300 794 992 or email supportgroups@wayahead.org.au.
URL:https://wayahead.org.au/event/wyoming-anxiety-support-group/2026-07-07/
LOCATION:Wyoming Community Centre\, 147 Maidens Brush Rd\, Wyoming\, New South Wales\, 2250\, Australia
CATEGORIES:Anxiety Program Events
ATTACH;FMTTYPE=image/jpeg:https://wayahead.org.au/wp-content/uploads/2025/01/ASG-online-group.jpg
GEO:'-33.4098123;151.3660688
X-APPLE-STRUCTURED-LOCATION;VALUE=URI;X-ADDRESS=Wyoming Community Centre 147 Maidens Brush Rd Wyoming New South Wales 2250 Australia;X-APPLE-RADIUS=500;X-TITLE=147 Maidens Brush Rd:geo:151.3660688,'-33.4098123
END:VEVENT
BEGIN:VEVENT
DTSTART;TZID=Australia/Sydney:20260707T180000
DTEND;TZID=Australia/Sydney:20260707T200000
DTSTAMP:20260420T141833
CREATED:20260312T042919Z
LAST-MODIFIED:20260312T042921Z
UID:10003950-1783447200-1783454400@wayahead.org.au
SUMMARY:Wollongong Anxiety Support Group
DESCRIPTION:You must register if you wish to attend this group.  You can register by emailing supportgroups@wayahead.org.au or by phone 1300 794 992.\nWayahead’s Wollongong Anxiety Support Group is run by Asha & Yolanda at Wollongong Tennis Club on the 1st Tuesday of the month from 6pm to 8pm. \nOur groups are usually comprised of a small number of people who come together to share personal experiences and information in a safe\, friendly and supportive environment. \nAll Wayahead support groups are free of charge. \nIMPORTANT – This is not a treatment group. It is a place where people who are impacted by anxiety can give and receive support related to living with and managing their anxiety. It is facilitated by trained volunteers who have a diverse range of experiences but who are not qualified health professionals. As such\, this group is not suitable for people with high levels of mental distress which may be associated with psychosis\, severe depression or active post traumatic stress disorder (PTSD). We recommend that you do not attend this group if you are experiencing high levels of distress as it is unlikely that it will able to meet your needs. \nFor more information\, or to discuss whether this group is suitable for you\, please call 1300 794 992 or email supportgroups@wayahead.org.au.
URL:https://wayahead.org.au/event/wollongong-anxiety-support-group-15-2/2026-07-07/
LOCATION:Wollongong Tennis Club\, 37 Foley Street\, Gwynneville\, NSW\, 2500\, Australia
CATEGORIES:Anxiety Program Events
ATTACH;FMTTYPE=image/jpeg:https://wayahead.org.au/wp-content/uploads/2025/01/ASG-online-group.jpg
GEO:'-34.4186249;150.8875567
X-APPLE-STRUCTURED-LOCATION;VALUE=URI;X-ADDRESS=Wollongong Tennis Club 37 Foley Street Gwynneville NSW 2500 Australia;X-APPLE-RADIUS=500;X-TITLE=37 Foley Street:geo:150.8875567,'-34.4186249
END:VEVENT
BEGIN:VEVENT
DTSTART;TZID=Australia/Sydney:20260707T183000
DTEND;TZID=Australia/Sydney:20260707T203000
DTSTAMP:20260420T141833
CREATED:20250130T035304Z
LAST-MODIFIED:20260210T024135Z
UID:10005458-1783449000-1783456200@wayahead.org.au
SUMMARY:Epping Anxiety Support Group
DESCRIPTION:You must register if you wish to attend this group.  You can register by emailing supportgroups@wayahead.org.au or by phone 1300 794 992.\nWayahead’s Epping Anxiety Support Group is run by Kaavya & Sheena at the Epping Learning and Leisure Centre on the 1st Tuesday of the month from 6.30pm to 8.30pm. \nOur groups are usually comprised of a small number of people who come together to share personal experiences and information in a safe\, friendly and supportive environment. \nAll Wayahead support groups are free of charge. \nIMPORTANT – This is not a treatment group. It is a place where people who are impacted by anxiety can give and receive support related to living with and managing their anxiety. It is facilitated by trained volunteers who have a diverse range of experiences but who are not qualified health professionals. As such\, this group is not suitable for people with high levels of mental distress which may be associated with psychosis\, severe depression or active post traumatic stress disorder (PTSD). We recommend that you do not attend this group if you are experiencing high levels of distress as it is unlikely that it will able to meet your needs. \nFor more information\, or to discuss whether this group is suitable for you\, please call 1300 794 992 or email supportgroups@wayahead.org.au.
URL:https://wayahead.org.au/event/epping-anxiety-support-group-7/2026-07-07/
LOCATION:Epping Leisure and Learning Centre\, 1 Chambers Court\, Epping\, New South Wales\, 2121\, Australia
CATEGORIES:Anxiety Program Events
ATTACH;FMTTYPE=image/jpeg:https://wayahead.org.au/wp-content/uploads/2025/01/ASG-online-group.jpg
GEO:'-33.7716048;151.0824825
X-APPLE-STRUCTURED-LOCATION;VALUE=URI;X-ADDRESS=Epping Leisure and Learning Centre 1 Chambers Court Epping New South Wales 2121 Australia;X-APPLE-RADIUS=500;X-TITLE=1 Chambers Court:geo:151.0824825,'-33.7716048
END:VEVENT
BEGIN:VEVENT
DTSTART;TZID=Australia/Sydney:20260707T183000
DTEND;TZID=Australia/Sydney:20260707T203000
DTSTAMP:20260420T141833
CREATED:20250623T074519Z
LAST-MODIFIED:20250627T061628Z
UID:10006698-1783449000-1783456200@wayahead.org.au
SUMMARY:Mona Vale Support Group
DESCRIPTION:  \nYou must register if you wish to attend this group.  You can register by emailing supportgroups@wayahead.org.au or by phone 1300 794 992.\n\nJoin Kerry and members of the Mona Vale Support Group on the 1st Tuesday of the month at 6.30pm at 6 Taronga Place\, Mona Vale (above Wave Pilates Studio). \nOur groups are usually comprised of a small number of people who come together to share personal experiences and information in a safe\, friendly and supportive environment. \nAll Wayahead support groups are free of charge. \nIMPORTANT – This is not a treatment group. It is a place where people who are impacted by anxiety can give and receive support related to living with and managing their anxiety. It is facilitated by trained volunteers who have a diverse range of experiences but who are not qualified health professionals. As such\, this group is not suitable for people with high levels of mental distress which may be associated with psychosis\, severe depression or active post traumatic stress disorder (PTSD). We recommend that you do not attend this group if you are experiencing high levels of distress as it is unlikely that it will able to meet your needs. \nFor more information\, or to discuss whether this group is suitable for you\, please call 1300 794 992 or email supportgroups@wayahead.org.au.
URL:https://wayahead.org.au/event/mona-vale-support-group/2026-07-07/
LOCATION:Mona Vale\, 6 Taronga Place\, Mona Vale\, NSW\, 2103\, Australia
CATEGORIES:Anxiety Program Events
ATTACH;FMTTYPE=image/jpeg:https://wayahead.org.au/wp-content/uploads/2025/01/ASG-online-group.jpg
END:VEVENT
END:VCALENDAR