BEGIN:VCALENDAR
VERSION:2.0
PRODID:-//Wayahead - ECPv6.15.20//NONSGML v1.0//EN
CALSCALE:GREGORIAN
METHOD:PUBLISH
X-WR-CALNAME:Wayahead
X-ORIGINAL-URL:https://wayahead.org.au
X-WR-CALDESC:Events for Wayahead
REFRESH-INTERVAL;VALUE=DURATION:PT1H
X-Robots-Tag:noindex
X-PUBLISHED-TTL:PT1H
BEGIN:VTIMEZONE
TZID:Australia/Sydney
BEGIN:STANDARD
TZOFFSETFROM:+1100
TZOFFSETTO:+1000
TZNAME:AEST
DTSTART:20250405T160000
END:STANDARD
BEGIN:DAYLIGHT
TZOFFSETFROM:+1000
TZOFFSETTO:+1100
TZNAME:AEDT
DTSTART:20251004T160000
END:DAYLIGHT
BEGIN:STANDARD
TZOFFSETFROM:+1100
TZOFFSETTO:+1000
TZNAME:AEST
DTSTART:20260404T160000
END:STANDARD
BEGIN:DAYLIGHT
TZOFFSETFROM:+1000
TZOFFSETTO:+1100
TZNAME:AEDT
DTSTART:20261003T160000
END:DAYLIGHT
BEGIN:STANDARD
TZOFFSETFROM:+1100
TZOFFSETTO:+1000
TZNAME:AEST
DTSTART:20270403T160000
END:STANDARD
BEGIN:DAYLIGHT
TZOFFSETFROM:+1000
TZOFFSETTO:+1100
TZNAME:AEDT
DTSTART:20271002T160000
END:DAYLIGHT
END:VTIMEZONE
BEGIN:VEVENT
DTSTART;TZID=Australia/Sydney:20260602T120000
DTEND;TZID=Australia/Sydney:20260602T140000
DTSTAMP:20260420T130852
CREATED:20250130T042353Z
LAST-MODIFIED:20260121T044234Z
UID:10008258-1780401600-1780408800@wayahead.org.au
SUMMARY:Wyoming Anxiety Support Group
DESCRIPTION:You must register if you wish to attend this group.  You can register by emailing supportgroups@wayahead.org.au or by phone 1300 794 992.\nWayahead’s Wyoming Anxiety Support Group is run by Geoff and Tim at the Wyoming Community Centre on the 1st Tuesday of the month from 12pm to 2pm. \nOur groups are usually comprised of a small number of people who come together to share personal experiences and information in a safe\, friendly and supportive environment. \nAll Wayahead support groups are free of charge. \nIMPORTANT – This is not a treatment group. It is a place where people who are impacted by anxiety can give and receive support related to living with and managing their anxiety. It is facilitated by trained volunteers who have a diverse range of experiences but who are not qualified health professionals. As such\, this group is not suitable for people with high levels of mental distress which may be associated with psychosis\, severe depression or active post traumatic stress disorder (PTSD). We recommend that you do not attend this group if you are experiencing high levels of distress as it is unlikely that it will able to meet your needs. \nFor more information\, or to discuss whether this group is suitable for you\, please call 1300 794 992 or email supportgroups@wayahead.org.au.
URL:https://wayahead.org.au/event/wyoming-anxiety-support-group/2026-06-02/
LOCATION:Wyoming Community Centre\, 147 Maidens Brush Rd\, Wyoming\, New South Wales\, 2250\, Australia
CATEGORIES:Anxiety Program Events
ATTACH;FMTTYPE=image/jpeg:https://wayahead.org.au/wp-content/uploads/2025/01/ASG-online-group.jpg
GEO:'-33.4098123;151.3660688
X-APPLE-STRUCTURED-LOCATION;VALUE=URI;X-ADDRESS=Wyoming Community Centre 147 Maidens Brush Rd Wyoming New South Wales 2250 Australia;X-APPLE-RADIUS=500;X-TITLE=147 Maidens Brush Rd:geo:151.3660688,'-33.4098123
END:VEVENT
BEGIN:VEVENT
DTSTART;TZID=Australia/Sydney:20260602T180000
DTEND;TZID=Australia/Sydney:20260602T200000
DTSTAMP:20260420T130853
CREATED:20260312T042919Z
LAST-MODIFIED:20260312T042921Z
UID:10003949-1780423200-1780430400@wayahead.org.au
SUMMARY:Wollongong Anxiety Support Group
DESCRIPTION:You must register if you wish to attend this group.  You can register by emailing supportgroups@wayahead.org.au or by phone 1300 794 992.\nWayahead’s Wollongong Anxiety Support Group is run by Asha & Yolanda at Wollongong Tennis Club on the 1st Tuesday of the month from 6pm to 8pm. \nOur groups are usually comprised of a small number of people who come together to share personal experiences and information in a safe\, friendly and supportive environment. \nAll Wayahead support groups are free of charge. \nIMPORTANT – This is not a treatment group. It is a place where people who are impacted by anxiety can give and receive support related to living with and managing their anxiety. It is facilitated by trained volunteers who have a diverse range of experiences but who are not qualified health professionals. As such\, this group is not suitable for people with high levels of mental distress which may be associated with psychosis\, severe depression or active post traumatic stress disorder (PTSD). We recommend that you do not attend this group if you are experiencing high levels of distress as it is unlikely that it will able to meet your needs. \nFor more information\, or to discuss whether this group is suitable for you\, please call 1300 794 992 or email supportgroups@wayahead.org.au.
URL:https://wayahead.org.au/event/wollongong-anxiety-support-group-15-2/2026-06-02/
LOCATION:Wollongong Tennis Club\, 37 Foley Street\, Gwynneville\, NSW\, 2500\, Australia
CATEGORIES:Anxiety Program Events
ATTACH;FMTTYPE=image/jpeg:https://wayahead.org.au/wp-content/uploads/2025/01/ASG-online-group.jpg
GEO:'-34.4186249;150.8875567
X-APPLE-STRUCTURED-LOCATION;VALUE=URI;X-ADDRESS=Wollongong Tennis Club 37 Foley Street Gwynneville NSW 2500 Australia;X-APPLE-RADIUS=500;X-TITLE=37 Foley Street:geo:150.8875567,'-34.4186249
END:VEVENT
BEGIN:VEVENT
DTSTART;TZID=Australia/Sydney:20260602T183000
DTEND;TZID=Australia/Sydney:20260602T203000
DTSTAMP:20260420T130853
CREATED:20250130T035304Z
LAST-MODIFIED:20260210T024135Z
UID:10005457-1780425000-1780432200@wayahead.org.au
SUMMARY:Epping Anxiety Support Group
DESCRIPTION:You must register if you wish to attend this group.  You can register by emailing supportgroups@wayahead.org.au or by phone 1300 794 992.\nWayahead’s Epping Anxiety Support Group is run by Kaavya & Sheena at the Epping Learning and Leisure Centre on the 1st Tuesday of the month from 6.30pm to 8.30pm. \nOur groups are usually comprised of a small number of people who come together to share personal experiences and information in a safe\, friendly and supportive environment. \nAll Wayahead support groups are free of charge. \nIMPORTANT – This is not a treatment group. It is a place where people who are impacted by anxiety can give and receive support related to living with and managing their anxiety. It is facilitated by trained volunteers who have a diverse range of experiences but who are not qualified health professionals. As such\, this group is not suitable for people with high levels of mental distress which may be associated with psychosis\, severe depression or active post traumatic stress disorder (PTSD). We recommend that you do not attend this group if you are experiencing high levels of distress as it is unlikely that it will able to meet your needs. \nFor more information\, or to discuss whether this group is suitable for you\, please call 1300 794 992 or email supportgroups@wayahead.org.au.
URL:https://wayahead.org.au/event/epping-anxiety-support-group-7/2026-06-02/
LOCATION:Epping Leisure and Learning Centre\, 1 Chambers Court\, Epping\, New South Wales\, 2121\, Australia
CATEGORIES:Anxiety Program Events
ATTACH;FMTTYPE=image/jpeg:https://wayahead.org.au/wp-content/uploads/2025/01/ASG-online-group.jpg
GEO:'-33.7716048;151.0824825
X-APPLE-STRUCTURED-LOCATION;VALUE=URI;X-ADDRESS=Epping Leisure and Learning Centre 1 Chambers Court Epping New South Wales 2121 Australia;X-APPLE-RADIUS=500;X-TITLE=1 Chambers Court:geo:151.0824825,'-33.7716048
END:VEVENT
BEGIN:VEVENT
DTSTART;TZID=Australia/Sydney:20260602T183000
DTEND;TZID=Australia/Sydney:20260602T203000
DTSTAMP:20260420T130853
CREATED:20250623T074519Z
LAST-MODIFIED:20250627T061628Z
UID:10006697-1780425000-1780432200@wayahead.org.au
SUMMARY:Mona Vale Support Group
DESCRIPTION:  \nYou must register if you wish to attend this group.  You can register by emailing supportgroups@wayahead.org.au or by phone 1300 794 992.\n\nJoin Kerry and members of the Mona Vale Support Group on the 1st Tuesday of the month at 6.30pm at 6 Taronga Place\, Mona Vale (above Wave Pilates Studio). \nOur groups are usually comprised of a small number of people who come together to share personal experiences and information in a safe\, friendly and supportive environment. \nAll Wayahead support groups are free of charge. \nIMPORTANT – This is not a treatment group. It is a place where people who are impacted by anxiety can give and receive support related to living with and managing their anxiety. It is facilitated by trained volunteers who have a diverse range of experiences but who are not qualified health professionals. As such\, this group is not suitable for people with high levels of mental distress which may be associated with psychosis\, severe depression or active post traumatic stress disorder (PTSD). We recommend that you do not attend this group if you are experiencing high levels of distress as it is unlikely that it will able to meet your needs. \nFor more information\, or to discuss whether this group is suitable for you\, please call 1300 794 992 or email supportgroups@wayahead.org.au.
URL:https://wayahead.org.au/event/mona-vale-support-group/2026-06-02/
LOCATION:Mona Vale\, 6 Taronga Place\, Mona Vale\, NSW\, 2103\, Australia
CATEGORIES:Anxiety Program Events
ATTACH;FMTTYPE=image/jpeg:https://wayahead.org.au/wp-content/uploads/2025/01/ASG-online-group.jpg
END:VEVENT
BEGIN:VEVENT
DTSTART;TZID=Australia/Sydney:20260606T110000
DTEND;TZID=Australia/Sydney:20260606T130000
DTSTAMP:20260420T130853
CREATED:20250130T041253Z
LAST-MODIFIED:20250130T041253Z
UID:10003349-1780743600-1780750800@wayahead.org.au
SUMMARY:Marrickville Anxiety Support Group
DESCRIPTION:You must register if you wish to attend this group.  You can register by emailing supportgroups@wayahead.org.au or by phone 9339 6013.\nWayahead’s Marrickville Anxiety Support Group is run by Emily and Isabel at the Addison Road Centre on the 1st Saturday of the month from 11am to 1pm. \nOur groups are usually comprised of a small number of people who come together to share personal experiences and information in a safe\, friendly and supportive environment. \nAll Wayahead support groups are free of charge. \nIMPORTANT – This is not a treatment group. It is a place where people who are impacted by anxiety can give and receive support related to living with and managing their anxiety. It is facilitated by trained volunteers who have a diverse range of experiences but who are not qualified health professionals. As such\, this group is not suitable for people with high levels of mental distress which may be associated with psychosis\, severe depression or active post traumatic stress disorder (PTSD). We recommend that you do not attend this group if you are experiencing high levels of distress as it is unlikely that it will able to meet your needs. \nFor more information\, or to discuss whether this group is suitable for you\, please call 1300 794 992 or email supportgroups@wayahead.org.au.
URL:https://wayahead.org.au/event/marrickville-anxiety-support-group/2026-06-06/
LOCATION:Bush Music Club\, Hut 44\, Addison Road Centre\, 142 Addison Rd\, Marrickville\, NSW\, 2204\, Australia
CATEGORIES:Anxiety Program Events
ATTACH;FMTTYPE=image/jpeg:https://wayahead.org.au/wp-content/uploads/2025/01/ASG-online-group.jpg
END:VEVENT
BEGIN:VEVENT
DTSTART;TZID=Australia/Sydney:20260606T123000
DTEND;TZID=Australia/Sydney:20260606T143000
DTSTAMP:20260420T130853
CREATED:20250724T061710Z
LAST-MODIFIED:20260419T235029Z
UID:10007451-1780749000-1780756200@wayahead.org.au
SUMMARY:Surry Hills LGBTI Support Group
DESCRIPTION:You must register if you wish to attend this group.  You can register by emailing supportgroups@wayahead.org.au or by phone 1300 794 992.\nWayahead’s Surry hills LGBTI Support group meets on the 1st Saturday of the month from 12:30pm to 2:30pm at ACON\, 414 Elizabeth Street\, Surry Hills.  You must arrive on time for the meeting.  This is a locked venue and members will not be admitted after the meeting has commenced. \nOur groups are usually comprised of a small number of people who come together to share personal experiences and information in a safe\, friendly and supportive environment. \nAll Wayahead support groups are free of charge. \nIMPORTANT – This is not a treatment group. It is a place where people who are impacted by anxiety can give and receive support related to living with and managing their anxiety. It is facilitated by trained volunteers who have a diverse range of experiences but who are not qualified health professionals. As such\, this group is not suitable for people with high levels of mental distress which may be associated with psychosis\, severe depression or active post traumatic stress disorder (PTSD). We recommend that you do not attend this group if you are experiencing high levels of distress as it is unlikely that it will able to meet your needs. \nFor more information\, or to discuss whether this group is suitable for you\, please call 1300 794 992 or email supportgroups@wayahead.org.au.
URL:https://wayahead.org.au/event/surry-hills-lgbti-support-group-2/2026-06-06/
LOCATION:ACON\, 414 Elizabeth St\, Surry Hills\, Australia
CATEGORIES:Anxiety Program Events
ATTACH;FMTTYPE=image/jpeg:https://wayahead.org.au/wp-content/uploads/2025/01/ASG-online-group.jpg
END:VEVENT
BEGIN:VEVENT
DTSTART;TZID=Australia/Sydney:20260606T140000
DTEND;TZID=Australia/Sydney:20260606T160000
DTSTAMP:20260420T130853
CREATED:20260323T023905Z
LAST-MODIFIED:20260323T023906Z
UID:10006529-1780754400-1780761600@wayahead.org.au
SUMMARY:Students' Online Support Group
DESCRIPTION:Wayahead’s Students’ Online Anxiety Support group is run by Anna-Maria\, Gilbert and Mary Crystal on the 1st Saturday of the month at 2pm. \nIf you would like to attend this group please register here \nOur online groups are usually comprised of a small number of people who come together over Zoom to share personal experiences and information in a safe\, friendly and supportive environment. \nAll Wayahead support groups are free of charge. \nIMPORTANT – This is not a treatment group. It is a place where people who are impacted by anxiety can give and receive support related to living with and managing their anxiety. It is facilitated by trained volunteers who have a diverse range of experiences but who are not qualified health professionals. As such\, this group is not suitable for people with high levels of mental distress which may be associated with psychosis\, severe depression or active post traumatic stress disorder (PTSD). We recommend that you do not attend this group if you are experiencing high levels of distress as it is unlikely that it will able to meet your needs. \nFor more information\, or to discuss whether this group is suitable for you\, please call 1300 794 992 or email supportgroups@wayahead.org.au.
URL:https://wayahead.org.au/event/students-online-support-group-2/2026-06-06/
LOCATION:https://wayahead-org-au.zoom.us/j/84137503134
CATEGORIES:Anxiety Program Events
ATTACH;FMTTYPE=image/jpeg:https://wayahead.org.au/wp-content/uploads/2025/01/ASG-online-group-1.jpg
END:VEVENT
BEGIN:VEVENT
DTSTART;TZID=Australia/Sydney:20260606T150000
DTEND;TZID=Australia/Sydney:20260606T170000
DTSTAMP:20260420T130853
CREATED:20260312T042650Z
LAST-MODIFIED:20260312T042651Z
UID:10002046-1780758000-1780765200@wayahead.org.au
SUMMARY:Glebe Anxiety Support Group
DESCRIPTION:You must register if you wish to attend this group.  You can register by emailing supportgroups@wayahead.org.au or by phone 1300 794 992. \nWayahead’s Glebe Anxiety Support Group is run by Rachel and Sue at Glebe Town Hall on the 1st Saturday of the month from 3pm to 5pm. \nOur groups are usually comprised of a small number of people who come together to share personal experiences and information in a safe\, friendly and supportive environment. \nAll Wayahead support groups are free of charge. \nProspective attendees are advised to check this page in the days before the group is scheduled to take place to make sure there haven’t been any changes or cancellations. Any such deviations from the information above will be announced in orange at the top of the page. \nIMPORTANT – This is not a treatment group. It is a place where people who are impacted by anxiety can give and receive support related to living with and managing their anxiety. It is facilitated by trained volunteers who have a diverse range of experiences but who are not qualified health professionals. As such\, this group is not suitable for people with high levels of mental distress which may be associated with psychosis\, severe depression or active post traumatic stress disorder (PTSD). We recommend that you do not attend this group if you are experiencing high levels of distress as it is unlikely that it will able to meet your needs. \nFor more information\, or to discuss whether this group is suitable for you\, please call 1300 794 992 or email supportgroups@wayahead.org.au.
URL:https://wayahead.org.au/event/glebe-anxiety-support-group-2/2026-06-06/
LOCATION:Glebe Town Hall\, 160 St Johns Rd\, Glebe\, New South Wales\, 2037\, Australia
CATEGORIES:Anxiety Program Events
ATTACH;FMTTYPE=image/jpeg:https://wayahead.org.au/wp-content/uploads/2025/01/ASG-online-group.jpg
GEO:'-33.878038;151.185016
X-APPLE-STRUCTURED-LOCATION;VALUE=URI;X-ADDRESS=Glebe Town Hall 160 St Johns Rd Glebe New South Wales 2037 Australia;X-APPLE-RADIUS=500;X-TITLE=160 St Johns Rd:geo:151.185016,'-33.878038
END:VEVENT
END:VCALENDAR