BEGIN:VCALENDAR
VERSION:2.0
PRODID:-//Wayahead - ECPv6.15.20//NONSGML v1.0//EN
CALSCALE:GREGORIAN
METHOD:PUBLISH
X-WR-CALNAME:Wayahead
X-ORIGINAL-URL:https://wayahead.org.au
X-WR-CALDESC:Events for Wayahead
REFRESH-INTERVAL;VALUE=DURATION:PT1H
X-Robots-Tag:noindex
X-PUBLISHED-TTL:PT1H
BEGIN:VTIMEZONE
TZID:Australia/Sydney
BEGIN:STANDARD
TZOFFSETFROM:+1100
TZOFFSETTO:+1000
TZNAME:AEST
DTSTART:20250405T160000
END:STANDARD
BEGIN:DAYLIGHT
TZOFFSETFROM:+1000
TZOFFSETTO:+1100
TZNAME:AEDT
DTSTART:20251004T160000
END:DAYLIGHT
BEGIN:STANDARD
TZOFFSETFROM:+1100
TZOFFSETTO:+1000
TZNAME:AEST
DTSTART:20260404T160000
END:STANDARD
BEGIN:DAYLIGHT
TZOFFSETFROM:+1000
TZOFFSETTO:+1100
TZNAME:AEDT
DTSTART:20261003T160000
END:DAYLIGHT
BEGIN:STANDARD
TZOFFSETFROM:+1100
TZOFFSETTO:+1000
TZNAME:AEST
DTSTART:20270403T160000
END:STANDARD
BEGIN:DAYLIGHT
TZOFFSETFROM:+1000
TZOFFSETTO:+1100
TZNAME:AEDT
DTSTART:20271002T160000
END:DAYLIGHT
END:VTIMEZONE
BEGIN:VEVENT
DTSTART;TZID=Australia/Sydney:20260504T180000
DTEND;TZID=Australia/Sydney:20260504T200000
DTSTAMP:20260420T141926
CREATED:20250130T022324Z
LAST-MODIFIED:20250130T022324Z
UID:10001387-1777917600-1777924800@wayahead.org.au
SUMMARY:Camden Anxiety Support Group
DESCRIPTION:  \nYou must register if you wish to attend this group.  You can register by emailing supportgroups@wayahead.org.au or by phone 1300 794 992. \nWayahead’s Camden Anxiety Support Group is run by Olga at Camden Uniting Church on the 1st Monday of the month from 6pm to 8pm. \nOur groups are usually comprised of a small number of people who come together to share personal experiences and information in a safe\, friendly and supportive environment. \nAll Wayahead support groups are free of charge. \nProspective attendees are advised to check this page in the days before the group is scheduled to take place to make sure there haven’t been any changes or cancellations. Any such deviations from the information above will be announced in orange at the top of the page. \nIMPORTANT – This is not a treatment group. It is a place where people who are impacted by anxiety can give and receive support related to living with and managing their anxiety. It is facilitated by trained volunteers who have a diverse range of experiences but who are not qualified health professionals. As such\, this group is not suitable for people with high levels of mental distress which may be associated with psychosis\, severe depression or active post traumatic stress disorder (PTSD). We recommend that you do not attend this group if you are experiencing high levels of distress as it is unlikely that it will able to meet your needs. \nFor more information\, or to discuss whether this group is suitable for you\, please call 1300 794 992 or email supportgroups@wayahead.org.au.
URL:https://wayahead.org.au/event/camden-anxiety-support-group-7/2026-05-04/
LOCATION:Camden Uniting Church\, 20 John Street\, Camden\, NSW\, 2570\, Australia
CATEGORIES:Anxiety Program Events
ATTACH;FMTTYPE=image/jpeg:https://wayahead.org.au/wp-content/uploads/2025/01/ASG-online-group.jpg
GEO:'-34.0522525;150.6947514
X-APPLE-STRUCTURED-LOCATION;VALUE=URI;X-ADDRESS=Camden Uniting Church 20 John Street Camden NSW 2570 Australia;X-APPLE-RADIUS=500;X-TITLE=20 John Street:geo:150.6947514,'-34.0522525
END:VEVENT
BEGIN:VEVENT
DTSTART;TZID=Australia/Sydney:20260504T180000
DTEND;TZID=Australia/Sydney:20260504T200000
DTSTAMP:20260420T141926
CREATED:20250917T071408Z
LAST-MODIFIED:20251219T053321Z
UID:10001083-1777917600-1777924800@wayahead.org.au
SUMMARY:Bankstown Anxiety Support Group
DESCRIPTION:You must register if you wish to attend this group.  You can register by emailing supportgroups@wayahead.org.au or by phone 1300 794 992. \nWayAhead’s Bankstown Anxiety Support Group is run by Samara and Tennesy at Bankstown Arts Centre on the 1st Monday of the month from 6pm to 8pm. \nOur groups are usually comprised of a small number of people who come together to share personal experiences and information in a safe\, friendly and supportive environment. \nAll WayAhead support groups are free of charge. \nProspective attendees are advised to check this page in the days before the group is scheduled to take place to make sure there haven’t been any changes or cancellations. Any such deviations from the information above will be announced in orange at the top of the page. \nIMPORTANT – This is not a treatment group. It is a place where people who are impacted by anxiety can give and receive support related to living with and managing their anxiety. It is facilitated by trained volunteers who have a diverse range of experiences but who are not qualified health professionals. As such\, this group is not suitable for people with high levels of mental distress which may be associated with psychosis\, severe depression or active post traumatic stress disorder (PTSD). We recommend that you do not attend this group if you are experiencing high levels of distress as it is unlikely that it will able to meet your needs. \nFor more information\, or to discuss whether this group is suitable for you\, please call 1300 794 992 or email supportgroups@wayahead.org.au.
URL:https://wayahead.org.au/event/bankstown-anxiety-support-group-4-3/2026-05-04/
LOCATION:Bankstown Arts Centre\, 5 Olypmic Drive\, Bankstown
CATEGORIES:Anxiety Program Events
ATTACH;FMTTYPE=image/jpeg:https://wayahead.org.au/wp-content/uploads/2025/01/ASG-online-group.jpg
END:VEVENT
BEGIN:VEVENT
DTSTART;TZID=Australia/Sydney:20260506T100000
DTEND;TZID=Australia/Sydney:20260506T120000
DTSTAMP:20260420T141926
CREATED:20250130T040655Z
LAST-MODIFIED:20250130T040655Z
UID:10003168-1778061600-1778068800@wayahead.org.au
SUMMARY:Jesmond Anxiety Support Group
DESCRIPTION:Wayahead’s Jesmond Anxiety Support Group is run by Kate\, Phil and Tina at the Jesmond Neighbourhood Centre on the 1st Wednesday of the month from 10am to 12 noon. \nThe meeting takes place in the room at the end of the hallway after entering the foyer. \nOur groups are usually comprised of a small number of people who come together to share personal experiences and information in a safe\, friendly and supportive environment. \nAll Wayahead support groups are free of charge. \nIMPORTANT – This is not a treatment group. It is a place where people who are impacted by anxiety can give and receive support related to living with and managing their anxiety. It is facilitated by trained volunteers who have a diverse range of experiences but who are not qualified health professionals. As such\, this group is not suitable for people with high levels of mental distress which may be associated with psychosis\, severe depression or active post traumatic stress disorder (PTSD). We recommend that you do not attend this group if you are experiencing high levels of distress as it is unlikely that it will able to meet your needs. \nFor more information\, or to discuss whether this group is suitable for you\, please call 1300 794 992 or email supportgroups@wayahead.org.au.
URL:https://wayahead.org.au/event/jesmond-anxiety-support-group/2026-05-06/
LOCATION:Jesmond Neighbourhood Centre\, 44 Mordue Parade\, Jesmond\, New South Wales\, 2299\, Australia
CATEGORIES:Anxiety Program Events
ATTACH;FMTTYPE=image/jpeg:https://wayahead.org.au/wp-content/uploads/2025/01/ASG-online-group.jpg
GEO:'-32.9002372;151.6898055
X-APPLE-STRUCTURED-LOCATION;VALUE=URI;X-ADDRESS=Jesmond Neighbourhood Centre 44 Mordue Parade Jesmond New South Wales 2299 Australia;X-APPLE-RADIUS=500;X-TITLE=44 Mordue Parade:geo:151.6898055,'-32.9002372
END:VEVENT
BEGIN:VEVENT
DTSTART;TZID=Australia/Sydney:20260506T180000
DTEND;TZID=Australia/Sydney:20260506T200000
DTSTAMP:20260420T141926
CREATED:20250130T041558Z
LAST-MODIFIED:20250130T041558Z
UID:10003588-1778090400-1778097600@wayahead.org.au
SUMMARY:Port Macquarie Anxiety Support Group
DESCRIPTION:You must register if you wish to attend this group.  You can register by emailing supportgroups@wayahead.org.au or by phone 9339 6013.\nWayahead’s Port Macquarie Anxiety Support Group is run by Carli and Meredith at Port Macquarie Library on the 1st Wednesday of the month from 6pm to 8pm. \nOur groups are usually comprised of a small number of people who come together to share personal experiences and information in a safe\, friendly and supportive environment. \nAll Wayahead support groups are free of charge. \nIMPORTANT – This is not a treatment group. It is a place where people who are impacted by anxiety can give and receive support related to living with and managing their anxiety. It is facilitated by trained volunteers who have a diverse range of experiences but who are not qualified health professionals. As such\, this group is not suitable for people with high levels of mental distress which may be associated with psychosis\, severe depression or active post traumatic stress disorder (PTSD). We recommend that you do not attend this group if you are experiencing high levels of distress as it is unlikely that it will able to meet your needs. \nFor more information\, or to discuss whether this group is suitable for you\, please call 1300 794 992 or email supportgroups@wayahead.org.au.
URL:https://wayahead.org.au/event/port-macquarie-anxiety-support-group/2026-05-06/
LOCATION:Port Macquarie Library\, Grant Street\, Port Macquarie\, NSW\, 2444\, Australia
CATEGORIES:Anxiety Program Events
ATTACH;FMTTYPE=image/jpeg:https://wayahead.org.au/wp-content/uploads/2025/01/ASG-online-group.jpg
END:VEVENT
BEGIN:VEVENT
DTSTART;TZID=Australia/Sydney:20260506T190000
DTEND;TZID=Australia/Sydney:20260506T203000
DTSTAMP:20260420T141926
CREATED:20250130T023633Z
LAST-MODIFIED:20260311T054411Z
UID:10001745-1778094000-1778099400@wayahead.org.au
SUMMARY:Chatswood Anxiety Support Group
DESCRIPTION:You must register if you wish to attend this group.  You can register by emailing supportgroups@wayahead.org.au or by phone 1300 794 992. \nWayahead’s Chatswood Anxiety Support Group is run by Sarah\, Sytuha and Youn meets at the Dougherty Community Centre on the 1st Wednesday of the month from 7pm to 8.30pm. \nThe meeting takes place in the Hideaway Room. \nOur groups are usually comprised of a small number of people who come together to share personal experiences and information in a safe\, friendly and supportive environment. \nAll Wayahead support groups are free of charge. \nProspective attendees are advised to check this page in the days before the group is scheduled to take place to make sure there haven’t been any changes or cancellations. Any such deviations from the information above will be announced in orange at the top of the page. \nIMPORTANT – This is not a treatment group. It is a place where people who are impacted by anxiety can give and receive support related to living with and managing their anxiety. It is facilitated by trained volunteers who have a diverse range of experiences but who are not qualified health professionals. As such\, this group is not suitable for people with high levels of mental distress which may be associated with psychosis\, severe depression or active post traumatic stress disorder (PTSD). We recommend that you do not attend this group if you are experiencing high levels of distress as it is unlikely that it will able to meet your needs. \nFor more information\, or to discuss whether this group is suitable for you\, please call 1300 794 992 or email supportgroups@wayahead.org.au.
URL:https://wayahead.org.au/event/chatswood-anxiety-support-group/2026-05-06/
LOCATION:Dougherty Community Centre\, Hideaway Room\, 7 Victor St\, Chatswood\, New South Wales\, 2067\, Australia
CATEGORIES:Anxiety Program Events
ATTACH;FMTTYPE=image/jpeg:https://wayahead.org.au/wp-content/uploads/2025/01/ASG-online-group.jpg
GEO:'-33.799092;151.182814
X-APPLE-STRUCTURED-LOCATION;VALUE=URI;X-ADDRESS=Dougherty Community Centre Hideaway Room 7 Victor St Chatswood New South Wales 2067 Australia;X-APPLE-RADIUS=500;X-TITLE=Hideaway Room\, 7 Victor St:geo:151.182814,'-33.799092
END:VEVENT
BEGIN:VEVENT
DTSTART;TZID=Australia/Sydney:20260507T183000
DTEND;TZID=Australia/Sydney:20260507T203000
DTSTAMP:20260420T141926
CREATED:20260312T042411Z
LAST-MODIFIED:20260312T042413Z
UID:10008335-1778178600-1778185800@wayahead.org.au
SUMMARY:Doonside Anxiety Support Group
DESCRIPTION:Wayahead’s Doonside Anxiety Support Group is run by Naeem at Doonside Community Centre on the 1st Thursday of the month from 6.30pm to 8.30pm. \nOur groups are usually comprised of a small number of people who come together to share personal experiences and information in a safe\, friendly and supportive environment. \nAll Wayahead support groups are free of charge. \nProspective attendees are advised to check this page in the days before the group is scheduled to take place to make sure there haven’t been any changes or cancellations. Any such deviations from the information above will be announced in orange at the top of the page. \nIMPORTANT – This is not a treatment group. It is a place where people who are impacted by anxiety can give and receive support related to living with and managing their anxiety. It is facilitated by trained volunteers who have a diverse range of experiences but who are not qualified health professionals. As such\, this group is not suitable for people with high levels of mental distress which may be associated with psychosis\, severe depression or active post traumatic stress disorder (PTSD). We recommend that you do not attend this group if you are experiencing high levels of distress as it is unlikely that it will able to meet your needs. \nFor more information\, or to discuss whether this group is suitable for you\, please call 1300 794 992 or email supportgroups@wayahead.org.au.
URL:https://wayahead.org.au/event/doonside-anxiety-support-group-2-2/2026-05-07/
LOCATION:Doonside Community Centre\, Cnr Graham & Hill End Rd\, Doonside\, NSW\, Australia
CATEGORIES:Anxiety Program Events
ATTACH;FMTTYPE=image/jpeg:https://wayahead.org.au/wp-content/uploads/2025/01/ASG-online-group.jpg
END:VEVENT
END:VCALENDAR