BEGIN:VCALENDAR
VERSION:2.0
PRODID:-//Wayahead - ECPv6.15.20//NONSGML v1.0//EN
CALSCALE:GREGORIAN
METHOD:PUBLISH
X-WR-CALNAME:Wayahead
X-ORIGINAL-URL:https://wayahead.org.au
X-WR-CALDESC:Events for Wayahead
REFRESH-INTERVAL;VALUE=DURATION:PT1H
X-Robots-Tag:noindex
X-PUBLISHED-TTL:PT1H
BEGIN:VTIMEZONE
TZID:Australia/Sydney
BEGIN:STANDARD
TZOFFSETFROM:+1100
TZOFFSETTO:+1000
TZNAME:AEST
DTSTART:20250405T160000
END:STANDARD
BEGIN:DAYLIGHT
TZOFFSETFROM:+1000
TZOFFSETTO:+1100
TZNAME:AEDT
DTSTART:20251004T160000
END:DAYLIGHT
BEGIN:STANDARD
TZOFFSETFROM:+1100
TZOFFSETTO:+1000
TZNAME:AEST
DTSTART:20260404T160000
END:STANDARD
BEGIN:DAYLIGHT
TZOFFSETFROM:+1000
TZOFFSETTO:+1100
TZNAME:AEDT
DTSTART:20261003T160000
END:DAYLIGHT
BEGIN:STANDARD
TZOFFSETFROM:+1100
TZOFFSETTO:+1000
TZNAME:AEST
DTSTART:20270403T160000
END:STANDARD
BEGIN:DAYLIGHT
TZOFFSETFROM:+1000
TZOFFSETTO:+1100
TZNAME:AEDT
DTSTART:20271002T160000
END:DAYLIGHT
END:VTIMEZONE
BEGIN:VEVENT
DTSTART;TZID=Australia/Sydney:20260401T190000
DTEND;TZID=Australia/Sydney:20260401T203000
DTSTAMP:20260420T140953
CREATED:20250130T023633Z
LAST-MODIFIED:20260311T054411Z
UID:10001744-1775070000-1775075400@wayahead.org.au
SUMMARY:Chatswood Anxiety Support Group
DESCRIPTION:You must register if you wish to attend this group.  You can register by emailing supportgroups@wayahead.org.au or by phone 1300 794 992. \nWayahead’s Chatswood Anxiety Support Group is run by Sarah\, Sytuha and Youn meets at the Dougherty Community Centre on the 1st Wednesday of the month from 7pm to 8.30pm. \nThe meeting takes place in the Hideaway Room. \nOur groups are usually comprised of a small number of people who come together to share personal experiences and information in a safe\, friendly and supportive environment. \nAll Wayahead support groups are free of charge. \nProspective attendees are advised to check this page in the days before the group is scheduled to take place to make sure there haven’t been any changes or cancellations. Any such deviations from the information above will be announced in orange at the top of the page. \nIMPORTANT – This is not a treatment group. It is a place where people who are impacted by anxiety can give and receive support related to living with and managing their anxiety. It is facilitated by trained volunteers who have a diverse range of experiences but who are not qualified health professionals. As such\, this group is not suitable for people with high levels of mental distress which may be associated with psychosis\, severe depression or active post traumatic stress disorder (PTSD). We recommend that you do not attend this group if you are experiencing high levels of distress as it is unlikely that it will able to meet your needs. \nFor more information\, or to discuss whether this group is suitable for you\, please call 1300 794 992 or email supportgroups@wayahead.org.au.
URL:https://wayahead.org.au/event/chatswood-anxiety-support-group/2026-04-01/
LOCATION:Dougherty Community Centre\, Hideaway Room\, 7 Victor St\, Chatswood\, New South Wales\, 2067\, Australia
CATEGORIES:Anxiety Program Events
ATTACH;FMTTYPE=image/jpeg:https://wayahead.org.au/wp-content/uploads/2025/01/ASG-online-group.jpg
GEO:'-33.799092;151.182814
X-APPLE-STRUCTURED-LOCATION;VALUE=URI;X-ADDRESS=Dougherty Community Centre Hideaway Room 7 Victor St Chatswood New South Wales 2067 Australia;X-APPLE-RADIUS=500;X-TITLE=Hideaway Room\, 7 Victor St:geo:151.182814,'-33.799092
END:VEVENT
BEGIN:VEVENT
DTSTART;TZID=Australia/Sydney:20260401T180000
DTEND;TZID=Australia/Sydney:20260401T200000
DTSTAMP:20260420T140953
CREATED:20250130T041558Z
LAST-MODIFIED:20250130T041558Z
UID:10003587-1775066400-1775073600@wayahead.org.au
SUMMARY:Port Macquarie Anxiety Support Group
DESCRIPTION:You must register if you wish to attend this group.  You can register by emailing supportgroups@wayahead.org.au or by phone 9339 6013.\nWayahead’s Port Macquarie Anxiety Support Group is run by Carli and Meredith at Port Macquarie Library on the 1st Wednesday of the month from 6pm to 8pm. \nOur groups are usually comprised of a small number of people who come together to share personal experiences and information in a safe\, friendly and supportive environment. \nAll Wayahead support groups are free of charge. \nIMPORTANT – This is not a treatment group. It is a place where people who are impacted by anxiety can give and receive support related to living with and managing their anxiety. It is facilitated by trained volunteers who have a diverse range of experiences but who are not qualified health professionals. As such\, this group is not suitable for people with high levels of mental distress which may be associated with psychosis\, severe depression or active post traumatic stress disorder (PTSD). We recommend that you do not attend this group if you are experiencing high levels of distress as it is unlikely that it will able to meet your needs. \nFor more information\, or to discuss whether this group is suitable for you\, please call 1300 794 992 or email supportgroups@wayahead.org.au.
URL:https://wayahead.org.au/event/port-macquarie-anxiety-support-group/2026-04-01/
LOCATION:Port Macquarie Library\, Grant Street\, Port Macquarie\, NSW\, 2444\, Australia
CATEGORIES:Anxiety Program Events
ATTACH;FMTTYPE=image/jpeg:https://wayahead.org.au/wp-content/uploads/2025/01/ASG-online-group.jpg
END:VEVENT
BEGIN:VEVENT
DTSTART;TZID=Australia/Sydney:20260401T100000
DTEND;TZID=Australia/Sydney:20260401T120000
DTSTAMP:20260420T140953
CREATED:20250130T040655Z
LAST-MODIFIED:20250130T040655Z
UID:10003167-1775037600-1775044800@wayahead.org.au
SUMMARY:Jesmond Anxiety Support Group
DESCRIPTION:Wayahead’s Jesmond Anxiety Support Group is run by Kate\, Phil and Tina at the Jesmond Neighbourhood Centre on the 1st Wednesday of the month from 10am to 12 noon. \nThe meeting takes place in the room at the end of the hallway after entering the foyer. \nOur groups are usually comprised of a small number of people who come together to share personal experiences and information in a safe\, friendly and supportive environment. \nAll Wayahead support groups are free of charge. \nIMPORTANT – This is not a treatment group. It is a place where people who are impacted by anxiety can give and receive support related to living with and managing their anxiety. It is facilitated by trained volunteers who have a diverse range of experiences but who are not qualified health professionals. As such\, this group is not suitable for people with high levels of mental distress which may be associated with psychosis\, severe depression or active post traumatic stress disorder (PTSD). We recommend that you do not attend this group if you are experiencing high levels of distress as it is unlikely that it will able to meet your needs. \nFor more information\, or to discuss whether this group is suitable for you\, please call 1300 794 992 or email supportgroups@wayahead.org.au.
URL:https://wayahead.org.au/event/jesmond-anxiety-support-group/2026-04-01/
LOCATION:Jesmond Neighbourhood Centre\, 44 Mordue Parade\, Jesmond\, New South Wales\, 2299\, Australia
CATEGORIES:Anxiety Program Events
ATTACH;FMTTYPE=image/jpeg:https://wayahead.org.au/wp-content/uploads/2025/01/ASG-online-group.jpg
GEO:'-32.9002372;151.6898055
X-APPLE-STRUCTURED-LOCATION;VALUE=URI;X-ADDRESS=Jesmond Neighbourhood Centre 44 Mordue Parade Jesmond New South Wales 2299 Australia;X-APPLE-RADIUS=500;X-TITLE=44 Mordue Parade:geo:151.6898055,'-32.9002372
END:VEVENT
BEGIN:VEVENT
DTSTART;TZID=Australia/Sydney:20260323T190000
DTEND;TZID=Australia/Sydney:20260323T210000
DTSTAMP:20260420T140953
CREATED:20260211T043910Z
LAST-MODIFIED:20260312T044119Z
UID:10008411-1774292400-1774299600@wayahead.org.au
SUMMARY:Online OCD Support Group
DESCRIPTION:The Online OCD Support Group Support Group is a free\, monthly space for people living with OCD to connect with others who understand. OCD can be isolating\, especially for those living regionally\, caring for others\, retired\, in recovery\, managing chronic health conditions\, taking time away from work or study\, or finding it hard to leave the house. This group offers a safe and calm\, peer-led space where you can feel a little less alone. There’s no pressure to speak. You’re welcome to listen\, share\, or simply be present. We meet via Zoom every 4th Monday of the month from 7pm to 9pm (Sydney/Melbourne time).
URL:https://wayahead.org.au/event/online-ocd-support-group/2026-03-23/
LOCATION:https://wayahead-org-au.zoom.us/j/87558568591?pwd=yOhrj5FIluABJ2RazE8Sp1WaX9oiRb.1
CATEGORIES:Anxiety Program Events
ATTACH;FMTTYPE=image/jpeg:https://wayahead.org.au/wp-content/uploads/2025/01/ASG-online-group.jpg
END:VEVENT
BEGIN:VEVENT
DTSTART;TZID=Australia/Sydney:20260317T183000
DTEND;TZID=Australia/Sydney:20260317T203000
DTSTAMP:20260420T140953
CREATED:20250130T040413Z
LAST-MODIFIED:20251110T225537Z
UID:10003046-1773772200-1773779400@wayahead.org.au
SUMMARY:Hurstville Anxiety Support Group
DESCRIPTION:Wayahead’s Hurstville Anxiety Support Group is run by Chloe & Emily at Club Central on the 3rd Tuesday of the month from 6.30pm to 8.30pm. \nThe meeting takes place in various locations within the club. Please ask at reception where it is being held the month you join us. \nOur groups are usually comprised of a small number of people who come together to share personal experiences and information in a safe\, friendly and supportive environment. \nAll Wayahead support groups are free of charge. \nIMPORTANT – This is not a treatment group. It is a place where people who are impacted by anxiety can give and receive support related to living with and managing their anxiety. It is facilitated by trained volunteers who have a diverse range of experiences but who are not qualified health professionals. As such\, this group is not suitable for people with high levels of mental distress which may be associated with psychosis\, severe depression or active post traumatic stress disorder (PTSD). We recommend that you do not attend this group if you are experiencing high levels of distress as it is unlikely that it will able to meet your needs. \nFor more information\, or to discuss whether this group is suitable for you\, please call 1300 794 992 or email supportgroups@wayahead.org.au.
URL:https://wayahead.org.au/event/hurstville-anxiety-support-group/2026-03-17/
LOCATION:Club Central Hurstville\, The Meeting Room\, 2 Crofts Ave\, Hurstville\, NSW\, 2220\, Australia
CATEGORIES:Anxiety Program Events
ATTACH;FMTTYPE=image/jpeg:https://wayahead.org.au/wp-content/uploads/2025/01/ASG-online-group.jpg
GEO:'-33.9662081;151.1034615
X-APPLE-STRUCTURED-LOCATION;VALUE=URI;X-ADDRESS=Club Central Hurstville The Meeting Room 2 Crofts Ave Hurstville NSW 2220 Australia;X-APPLE-RADIUS=500;X-TITLE=The Meeting Room\, 2 Crofts Ave:geo:151.1034615,'-33.9662081
END:VEVENT
BEGIN:VEVENT
DTSTART;TZID=Australia/Sydney:20260312T083000
DTEND;TZID=Australia/Sydney:20260312T103000
DTSTAMP:20260420T140953
CREATED:20260226T225944Z
LAST-MODIFIED:20260310T030710Z
UID:10008329-1773304200-1773311400@wayahead.org.au
SUMMARY:Morning Forum
DESCRIPTION:The first Sharespace Morning Forum is on Thursday 12th March\, 2026. \nCome along for the first meeting of our 20th anniversary year!
URL:https://wayahead.org.au/event/morning-forum/
LOCATION:Level 6\, 3 Spring St\, Sydney\, 3 Spring St\, Sydney\, NSW\, 2001\, Australia
CATEGORIES:Sharespace Events
ATTACH;FMTTYPE=image/jpeg:https://wayahead.org.au/wp-content/uploads/2026/02/IMG_0207-scaled.jpg
ORGANIZER;CN="Vanessa Murphy":MAILTO:vanessa.murphy@wayahead.org.au
END:VEVENT
BEGIN:VEVENT
DTSTART;TZID=Australia/Sydney:20260302T180000
DTEND;TZID=Australia/Sydney:20260302T200000
DTSTAMP:20260420T140953
CREATED:20250917T071408Z
LAST-MODIFIED:20251219T053321Z
UID:10001081-1772474400-1772481600@wayahead.org.au
SUMMARY:Bankstown Anxiety Support Group
DESCRIPTION:You must register if you wish to attend this group.  You can register by emailing supportgroups@wayahead.org.au or by phone 1300 794 992. \nWayAhead’s Bankstown Anxiety Support Group is run by Samara and Tennesy at Bankstown Arts Centre on the 1st Monday of the month from 6pm to 8pm. \nOur groups are usually comprised of a small number of people who come together to share personal experiences and information in a safe\, friendly and supportive environment. \nAll WayAhead support groups are free of charge. \nProspective attendees are advised to check this page in the days before the group is scheduled to take place to make sure there haven’t been any changes or cancellations. Any such deviations from the information above will be announced in orange at the top of the page. \nIMPORTANT – This is not a treatment group. It is a place where people who are impacted by anxiety can give and receive support related to living with and managing their anxiety. It is facilitated by trained volunteers who have a diverse range of experiences but who are not qualified health professionals. As such\, this group is not suitable for people with high levels of mental distress which may be associated with psychosis\, severe depression or active post traumatic stress disorder (PTSD). We recommend that you do not attend this group if you are experiencing high levels of distress as it is unlikely that it will able to meet your needs. \nFor more information\, or to discuss whether this group is suitable for you\, please call 1300 794 992 or email supportgroups@wayahead.org.au.
URL:https://wayahead.org.au/event/bankstown-anxiety-support-group-4-3/2026-03-02/
LOCATION:Bankstown Arts Centre\, 5 Olypmic Drive\, Bankstown
CATEGORIES:Anxiety Program Events
ATTACH;FMTTYPE=image/jpeg:https://wayahead.org.au/wp-content/uploads/2025/01/ASG-online-group.jpg
END:VEVENT
BEGIN:VEVENT
DTSTART;TZID=Australia/Sydney:20260302T180000
DTEND;TZID=Australia/Sydney:20260302T200000
DTSTAMP:20260420T140953
CREATED:20250130T022324Z
LAST-MODIFIED:20250130T022324Z
UID:10001385-1772474400-1772481600@wayahead.org.au
SUMMARY:Camden Anxiety Support Group
DESCRIPTION:  \nYou must register if you wish to attend this group.  You can register by emailing supportgroups@wayahead.org.au or by phone 1300 794 992. \nWayahead’s Camden Anxiety Support Group is run by Olga at Camden Uniting Church on the 1st Monday of the month from 6pm to 8pm. \nOur groups are usually comprised of a small number of people who come together to share personal experiences and information in a safe\, friendly and supportive environment. \nAll Wayahead support groups are free of charge. \nProspective attendees are advised to check this page in the days before the group is scheduled to take place to make sure there haven’t been any changes or cancellations. Any such deviations from the information above will be announced in orange at the top of the page. \nIMPORTANT – This is not a treatment group. It is a place where people who are impacted by anxiety can give and receive support related to living with and managing their anxiety. It is facilitated by trained volunteers who have a diverse range of experiences but who are not qualified health professionals. As such\, this group is not suitable for people with high levels of mental distress which may be associated with psychosis\, severe depression or active post traumatic stress disorder (PTSD). We recommend that you do not attend this group if you are experiencing high levels of distress as it is unlikely that it will able to meet your needs. \nFor more information\, or to discuss whether this group is suitable for you\, please call 1300 794 992 or email supportgroups@wayahead.org.au.
URL:https://wayahead.org.au/event/camden-anxiety-support-group-7/2026-03-02/
LOCATION:Camden Uniting Church\, 20 John Street\, Camden\, NSW\, 2570\, Australia
CATEGORIES:Anxiety Program Events
ATTACH;FMTTYPE=image/jpeg:https://wayahead.org.au/wp-content/uploads/2025/01/ASG-online-group.jpg
GEO:'-34.0522525;150.6947514
X-APPLE-STRUCTURED-LOCATION;VALUE=URI;X-ADDRESS=Camden Uniting Church 20 John Street Camden NSW 2570 Australia;X-APPLE-RADIUS=500;X-TITLE=20 John Street:geo:150.6947514,'-34.0522525
END:VEVENT
BEGIN:VEVENT
DTSTART;TZID=Australia/Sydney:20260221T120000
DTEND;TZID=Australia/Sydney:20260221T140000
DTSTAMP:20260420T140953
CREATED:20250130T043823Z
LAST-MODIFIED:20250130T043823Z
UID:10004725-1771675200-1771682400@wayahead.org.au
SUMMARY:Men's Online Anxiety Support Group
DESCRIPTION:Wayahead’s Men’s Online Anxiety Support group is run by John and Miro on the 3rd Saturday of the month at 12pm. \nIf you would like to attend this group please register here \nOur online groups are usually comprised of a small number of people who come together over Zoom to share personal experiences and information in a safe\, friendly and supportive environment. \nAll Wayahead support groups are free of charge. \nIMPORTANT – This is not a treatment group. It is a place where people who are impacted by anxiety can give and receive support related to living with and managing their anxiety. It is facilitated by trained volunteers who have a diverse range of experiences but who are not qualified health professionals. As such\, this group is not suitable for people with high levels of mental distress which may be associated with psychosis\, severe depression or active post traumatic stress disorder (PTSD). We recommend that you do not attend this group if you are experiencing high levels of distress as it is unlikely that it will able to meet your needs. \nFor more information\, or to discuss whether this group is suitable for you\, please call 1300 794 992 or email supportgroups@wayahead.org.au.
URL:https://wayahead.org.au/event/mens-online-anxiety-support-group/2026-02-21/
LOCATION:Venue TBA\, New South Wales\, Australia
CATEGORIES:Anxiety Program Events
ATTACH;FMTTYPE=image/jpeg:https://wayahead.org.au/wp-content/uploads/2025/01/ASG-Mens-Group.jpg
GEO:'-33.886186;151.2085076
END:VEVENT
BEGIN:VEVENT
DTSTART;TZID=Australia/Sydney:20260210T093000
DTEND;TZID=Australia/Sydney:20260210T150000
DTSTAMP:20260420T140953
CREATED:20251216T222724Z
LAST-MODIFIED:20251216T222724Z
UID:10008064-1770715800-1770735600@wayahead.org.au
SUMMARY:Warada FREE Perinatal Mental Health Day
DESCRIPTION:TAKING STEPS ON YOUR WELLBEING JOURNEY\nA Culturally Safe Wellbeing Event for Aboriginal & Torres Strait Islander Mums \nFor mothers who are pregnant OR have had a baby in the past 12 months \nJoin us for a relaxing\, supportive day focused on your wellbeing. Connect with other mums\, take time for yourself\, and enjoy culturally grounded activities that nurture your mind\, body\, spirit\, and culture. \nWHATS HAPPENING:\nMorning Tea & Lunch Provided\nWelcome pack & Lucky Door prizes\nWorkshops to assist your physical\, emotional and creative/spiritual wellbeing.\nGidget Foundation- Perinatal Mental Health Yarn\nCleansing Ceremony – strengthen cultural connection\nWomen’s Wellbeing Stalls – playgroups\, walk & talk groups\, mental health supports & more \nWHY COME ALONG? \nTake time for your wellbeing\nConnect with other mums in a safe\, welcoming space\nStrengthen cultural identity and healing\nBuild long-lasting support networks\nLearn practical ways to care for your mental\, emotional and spiritual health \nPROUDLY ABORIGINAL-LED \nDelivered by Warada Birth Education & Family Support – a 100% Aboriginal-owned organisation supporting women and families through culturally grounded care.
URL:https://wayahead.org.au/event/warada-free-perinatal-mental-health-day/
LOCATION:Penrith PCYC\, 100 Station Street\, Penrith\, nsw\, 2750\, Australia
CATEGORIES:MHM Events
ATTACH;FMTTYPE=image/jpeg:https://wayahead.org.au/wp-content/uploads/2025/12/WHATS-HAPPENING-Morning-Tea-Lunch-Provided-DanceFit-–-gentle-movement-for-physical-wellbeing-Drumming-Music-–-emotional-release-and-joy-Art-Workshop-–-creative-and-spiritual-healing-Perinatal.jpg
ORGANIZER;CN="Warada Birth Education &amp%3B Family Support":MAILTO:Waradamidwife@outlook.com
END:VEVENT
END:VCALENDAR