BEGIN:VCALENDAR
VERSION:2.0
PRODID:-//Wayahead - ECPv6.15.20//NONSGML v1.0//EN
CALSCALE:GREGORIAN
METHOD:PUBLISH
X-ORIGINAL-URL:https://wayahead.org.au
X-WR-CALDESC:Events for Wayahead
REFRESH-INTERVAL;VALUE=DURATION:PT1H
X-Robots-Tag:noindex
X-PUBLISHED-TTL:PT1H
BEGIN:VTIMEZONE
TZID:Australia/Sydney
BEGIN:STANDARD
TZOFFSETFROM:+1100
TZOFFSETTO:+1000
TZNAME:AEST
DTSTART:20250405T160000
END:STANDARD
BEGIN:DAYLIGHT
TZOFFSETFROM:+1000
TZOFFSETTO:+1100
TZNAME:AEDT
DTSTART:20251004T160000
END:DAYLIGHT
BEGIN:STANDARD
TZOFFSETFROM:+1100
TZOFFSETTO:+1000
TZNAME:AEST
DTSTART:20260404T160000
END:STANDARD
BEGIN:DAYLIGHT
TZOFFSETFROM:+1000
TZOFFSETTO:+1100
TZNAME:AEDT
DTSTART:20261003T160000
END:DAYLIGHT
BEGIN:STANDARD
TZOFFSETFROM:+1100
TZOFFSETTO:+1000
TZNAME:AEST
DTSTART:20270403T160000
END:STANDARD
BEGIN:DAYLIGHT
TZOFFSETFROM:+1000
TZOFFSETTO:+1100
TZNAME:AEDT
DTSTART:20271002T160000
END:DAYLIGHT
END:VTIMEZONE
BEGIN:VEVENT
DTSTART;TZID=Australia/Sydney:20260603T100000
DTEND;TZID=Australia/Sydney:20260603T120000
DTSTAMP:20260420T164018
CREATED:20250130T040655Z
LAST-MODIFIED:20250130T040655Z
UID:10003169-1780480800-1780488000@wayahead.org.au
SUMMARY:Jesmond Anxiety Support Group
DESCRIPTION:Wayahead’s Jesmond Anxiety Support Group is run by Kate\, Phil and Tina at the Jesmond Neighbourhood Centre on the 1st Wednesday of the month from 10am to 12 noon. \nThe meeting takes place in the room at the end of the hallway after entering the foyer. \nOur groups are usually comprised of a small number of people who come together to share personal experiences and information in a safe\, friendly and supportive environment. \nAll Wayahead support groups are free of charge. \nIMPORTANT – This is not a treatment group. It is a place where people who are impacted by anxiety can give and receive support related to living with and managing their anxiety. It is facilitated by trained volunteers who have a diverse range of experiences but who are not qualified health professionals. As such\, this group is not suitable for people with high levels of mental distress which may be associated with psychosis\, severe depression or active post traumatic stress disorder (PTSD). We recommend that you do not attend this group if you are experiencing high levels of distress as it is unlikely that it will able to meet your needs. \nFor more information\, or to discuss whether this group is suitable for you\, please call 1300 794 992 or email supportgroups@wayahead.org.au.
URL:https://wayahead.org.au/event/jesmond-anxiety-support-group/2026-06-03/
LOCATION:Jesmond Neighbourhood Centre\, 44 Mordue Parade\, Jesmond\, New South Wales\, 2299\, Australia
CATEGORIES:Anxiety Program Events
ATTACH;FMTTYPE=image/jpeg:https://wayahead.org.au/wp-content/uploads/2025/01/ASG-online-group.jpg
GEO:'-32.9002372;151.6898055
X-APPLE-STRUCTURED-LOCATION;VALUE=URI;X-ADDRESS=Jesmond Neighbourhood Centre 44 Mordue Parade Jesmond New South Wales 2299 Australia;X-APPLE-RADIUS=500;X-TITLE=44 Mordue Parade:geo:151.6898055,'-32.9002372
END:VEVENT
BEGIN:VEVENT
DTSTART;TZID=Australia/Sydney:20260603T180000
DTEND;TZID=Australia/Sydney:20260603T200000
DTSTAMP:20260420T164018
CREATED:20250130T041558Z
LAST-MODIFIED:20250130T041558Z
UID:10003589-1780509600-1780516800@wayahead.org.au
SUMMARY:Port Macquarie Anxiety Support Group
DESCRIPTION:You must register if you wish to attend this group.  You can register by emailing supportgroups@wayahead.org.au or by phone 9339 6013.\nWayahead’s Port Macquarie Anxiety Support Group is run by Carli and Meredith at Port Macquarie Library on the 1st Wednesday of the month from 6pm to 8pm. \nOur groups are usually comprised of a small number of people who come together to share personal experiences and information in a safe\, friendly and supportive environment. \nAll Wayahead support groups are free of charge. \nIMPORTANT – This is not a treatment group. It is a place where people who are impacted by anxiety can give and receive support related to living with and managing their anxiety. It is facilitated by trained volunteers who have a diverse range of experiences but who are not qualified health professionals. As such\, this group is not suitable for people with high levels of mental distress which may be associated with psychosis\, severe depression or active post traumatic stress disorder (PTSD). We recommend that you do not attend this group if you are experiencing high levels of distress as it is unlikely that it will able to meet your needs. \nFor more information\, or to discuss whether this group is suitable for you\, please call 1300 794 992 or email supportgroups@wayahead.org.au.
URL:https://wayahead.org.au/event/port-macquarie-anxiety-support-group/2026-06-03/
LOCATION:Port Macquarie Library\, Grant Street\, Port Macquarie\, NSW\, 2444\, Australia
CATEGORIES:Anxiety Program Events
ATTACH;FMTTYPE=image/jpeg:https://wayahead.org.au/wp-content/uploads/2025/01/ASG-online-group.jpg
END:VEVENT
BEGIN:VEVENT
DTSTART;TZID=Australia/Sydney:20260603T190000
DTEND;TZID=Australia/Sydney:20260603T203000
DTSTAMP:20260420T164018
CREATED:20250130T023633Z
LAST-MODIFIED:20260311T054411Z
UID:10001746-1780513200-1780518600@wayahead.org.au
SUMMARY:Chatswood Anxiety Support Group
DESCRIPTION:You must register if you wish to attend this group.  You can register by emailing supportgroups@wayahead.org.au or by phone 1300 794 992. \nWayahead’s Chatswood Anxiety Support Group is run by Sarah\, Sytuha and Youn meets at the Dougherty Community Centre on the 1st Wednesday of the month from 7pm to 8.30pm. \nThe meeting takes place in the Hideaway Room. \nOur groups are usually comprised of a small number of people who come together to share personal experiences and information in a safe\, friendly and supportive environment. \nAll Wayahead support groups are free of charge. \nProspective attendees are advised to check this page in the days before the group is scheduled to take place to make sure there haven’t been any changes or cancellations. Any such deviations from the information above will be announced in orange at the top of the page. \nIMPORTANT – This is not a treatment group. It is a place where people who are impacted by anxiety can give and receive support related to living with and managing their anxiety. It is facilitated by trained volunteers who have a diverse range of experiences but who are not qualified health professionals. As such\, this group is not suitable for people with high levels of mental distress which may be associated with psychosis\, severe depression or active post traumatic stress disorder (PTSD). We recommend that you do not attend this group if you are experiencing high levels of distress as it is unlikely that it will able to meet your needs. \nFor more information\, or to discuss whether this group is suitable for you\, please call 1300 794 992 or email supportgroups@wayahead.org.au.
URL:https://wayahead.org.au/event/chatswood-anxiety-support-group/2026-06-03/
LOCATION:Dougherty Community Centre\, Hideaway Room\, 7 Victor St\, Chatswood\, New South Wales\, 2067\, Australia
CATEGORIES:Anxiety Program Events
ATTACH;FMTTYPE=image/jpeg:https://wayahead.org.au/wp-content/uploads/2025/01/ASG-online-group.jpg
GEO:'-33.799092;151.182814
X-APPLE-STRUCTURED-LOCATION;VALUE=URI;X-ADDRESS=Dougherty Community Centre Hideaway Room 7 Victor St Chatswood New South Wales 2067 Australia;X-APPLE-RADIUS=500;X-TITLE=Hideaway Room\, 7 Victor St:geo:151.182814,'-33.799092
END:VEVENT
BEGIN:VEVENT
DTSTART;TZID=Australia/Sydney:20260604T183000
DTEND;TZID=Australia/Sydney:20260604T203000
DTSTAMP:20260420T164018
CREATED:20260312T042411Z
LAST-MODIFIED:20260312T042413Z
UID:10008336-1780597800-1780605000@wayahead.org.au
SUMMARY:Doonside Anxiety Support Group
DESCRIPTION:Wayahead’s Doonside Anxiety Support Group is run by Naeem at Doonside Community Centre on the 1st Thursday of the month from 6.30pm to 8.30pm. \nOur groups are usually comprised of a small number of people who come together to share personal experiences and information in a safe\, friendly and supportive environment. \nAll Wayahead support groups are free of charge. \nProspective attendees are advised to check this page in the days before the group is scheduled to take place to make sure there haven’t been any changes or cancellations. Any such deviations from the information above will be announced in orange at the top of the page. \nIMPORTANT – This is not a treatment group. It is a place where people who are impacted by anxiety can give and receive support related to living with and managing their anxiety. It is facilitated by trained volunteers who have a diverse range of experiences but who are not qualified health professionals. As such\, this group is not suitable for people with high levels of mental distress which may be associated with psychosis\, severe depression or active post traumatic stress disorder (PTSD). We recommend that you do not attend this group if you are experiencing high levels of distress as it is unlikely that it will able to meet your needs. \nFor more information\, or to discuss whether this group is suitable for you\, please call 1300 794 992 or email supportgroups@wayahead.org.au.
URL:https://wayahead.org.au/event/doonside-anxiety-support-group-2-2/2026-06-04/
LOCATION:Doonside Community Centre\, Cnr Graham & Hill End Rd\, Doonside\, NSW\, Australia
CATEGORIES:Anxiety Program Events
ATTACH;FMTTYPE=image/jpeg:https://wayahead.org.au/wp-content/uploads/2025/01/ASG-online-group.jpg
END:VEVENT
BEGIN:VEVENT
DTSTART;TZID=Australia/Sydney:20260606T110000
DTEND;TZID=Australia/Sydney:20260606T130000
DTSTAMP:20260420T164018
CREATED:20250130T041253Z
LAST-MODIFIED:20250130T041253Z
UID:10003349-1780743600-1780750800@wayahead.org.au
SUMMARY:Marrickville Anxiety Support Group
DESCRIPTION:You must register if you wish to attend this group.  You can register by emailing supportgroups@wayahead.org.au or by phone 9339 6013.\nWayahead’s Marrickville Anxiety Support Group is run by Emily and Isabel at the Addison Road Centre on the 1st Saturday of the month from 11am to 1pm. \nOur groups are usually comprised of a small number of people who come together to share personal experiences and information in a safe\, friendly and supportive environment. \nAll Wayahead support groups are free of charge. \nIMPORTANT – This is not a treatment group. It is a place where people who are impacted by anxiety can give and receive support related to living with and managing their anxiety. It is facilitated by trained volunteers who have a diverse range of experiences but who are not qualified health professionals. As such\, this group is not suitable for people with high levels of mental distress which may be associated with psychosis\, severe depression or active post traumatic stress disorder (PTSD). We recommend that you do not attend this group if you are experiencing high levels of distress as it is unlikely that it will able to meet your needs. \nFor more information\, or to discuss whether this group is suitable for you\, please call 1300 794 992 or email supportgroups@wayahead.org.au.
URL:https://wayahead.org.au/event/marrickville-anxiety-support-group/2026-06-06/
LOCATION:Bush Music Club\, Hut 44\, Addison Road Centre\, 142 Addison Rd\, Marrickville\, NSW\, 2204\, Australia
CATEGORIES:Anxiety Program Events
ATTACH;FMTTYPE=image/jpeg:https://wayahead.org.au/wp-content/uploads/2025/01/ASG-online-group.jpg
END:VEVENT
BEGIN:VEVENT
DTSTART;TZID=Australia/Sydney:20260606T123000
DTEND;TZID=Australia/Sydney:20260606T143000
DTSTAMP:20260420T164018
CREATED:20250724T061710Z
LAST-MODIFIED:20260419T235029Z
UID:10007451-1780749000-1780756200@wayahead.org.au
SUMMARY:Surry Hills LGBTI Support Group
DESCRIPTION:You must register if you wish to attend this group.  You can register by emailing supportgroups@wayahead.org.au or by phone 1300 794 992.\nWayahead’s Surry hills LGBTI Support group meets on the 1st Saturday of the month from 12:30pm to 2:30pm at ACON\, 414 Elizabeth Street\, Surry Hills.  You must arrive on time for the meeting.  This is a locked venue and members will not be admitted after the meeting has commenced. \nOur groups are usually comprised of a small number of people who come together to share personal experiences and information in a safe\, friendly and supportive environment. \nAll Wayahead support groups are free of charge. \nIMPORTANT – This is not a treatment group. It is a place where people who are impacted by anxiety can give and receive support related to living with and managing their anxiety. It is facilitated by trained volunteers who have a diverse range of experiences but who are not qualified health professionals. As such\, this group is not suitable for people with high levels of mental distress which may be associated with psychosis\, severe depression or active post traumatic stress disorder (PTSD). We recommend that you do not attend this group if you are experiencing high levels of distress as it is unlikely that it will able to meet your needs. \nFor more information\, or to discuss whether this group is suitable for you\, please call 1300 794 992 or email supportgroups@wayahead.org.au.
URL:https://wayahead.org.au/event/surry-hills-lgbti-support-group-2/2026-06-06/
LOCATION:ACON\, 414 Elizabeth St\, Surry Hills\, Australia
CATEGORIES:Anxiety Program Events
ATTACH;FMTTYPE=image/jpeg:https://wayahead.org.au/wp-content/uploads/2025/01/ASG-online-group.jpg
END:VEVENT
BEGIN:VEVENT
DTSTART;TZID=Australia/Sydney:20260606T140000
DTEND;TZID=Australia/Sydney:20260606T160000
DTSTAMP:20260420T164018
CREATED:20260323T023905Z
LAST-MODIFIED:20260323T023906Z
UID:10006529-1780754400-1780761600@wayahead.org.au
SUMMARY:Students' Online Support Group
DESCRIPTION:Wayahead’s Students’ Online Anxiety Support group is run by Anna-Maria\, Gilbert and Mary Crystal on the 1st Saturday of the month at 2pm. \nIf you would like to attend this group please register here \nOur online groups are usually comprised of a small number of people who come together over Zoom to share personal experiences and information in a safe\, friendly and supportive environment. \nAll Wayahead support groups are free of charge. \nIMPORTANT – This is not a treatment group. It is a place where people who are impacted by anxiety can give and receive support related to living with and managing their anxiety. It is facilitated by trained volunteers who have a diverse range of experiences but who are not qualified health professionals. As such\, this group is not suitable for people with high levels of mental distress which may be associated with psychosis\, severe depression or active post traumatic stress disorder (PTSD). We recommend that you do not attend this group if you are experiencing high levels of distress as it is unlikely that it will able to meet your needs. \nFor more information\, or to discuss whether this group is suitable for you\, please call 1300 794 992 or email supportgroups@wayahead.org.au.
URL:https://wayahead.org.au/event/students-online-support-group-2/2026-06-06/
LOCATION:https://wayahead-org-au.zoom.us/j/84137503134
CATEGORIES:Anxiety Program Events
ATTACH;FMTTYPE=image/jpeg:https://wayahead.org.au/wp-content/uploads/2025/01/ASG-online-group-1.jpg
END:VEVENT
BEGIN:VEVENT
DTSTART;TZID=Australia/Sydney:20260606T150000
DTEND;TZID=Australia/Sydney:20260606T170000
DTSTAMP:20260420T164018
CREATED:20260312T042650Z
LAST-MODIFIED:20260312T042651Z
UID:10002046-1780758000-1780765200@wayahead.org.au
SUMMARY:Glebe Anxiety Support Group
DESCRIPTION:You must register if you wish to attend this group.  You can register by emailing supportgroups@wayahead.org.au or by phone 1300 794 992. \nWayahead’s Glebe Anxiety Support Group is run by Rachel and Sue at Glebe Town Hall on the 1st Saturday of the month from 3pm to 5pm. \nOur groups are usually comprised of a small number of people who come together to share personal experiences and information in a safe\, friendly and supportive environment. \nAll Wayahead support groups are free of charge. \nProspective attendees are advised to check this page in the days before the group is scheduled to take place to make sure there haven’t been any changes or cancellations. Any such deviations from the information above will be announced in orange at the top of the page. \nIMPORTANT – This is not a treatment group. It is a place where people who are impacted by anxiety can give and receive support related to living with and managing their anxiety. It is facilitated by trained volunteers who have a diverse range of experiences but who are not qualified health professionals. As such\, this group is not suitable for people with high levels of mental distress which may be associated with psychosis\, severe depression or active post traumatic stress disorder (PTSD). We recommend that you do not attend this group if you are experiencing high levels of distress as it is unlikely that it will able to meet your needs. \nFor more information\, or to discuss whether this group is suitable for you\, please call 1300 794 992 or email supportgroups@wayahead.org.au.
URL:https://wayahead.org.au/event/glebe-anxiety-support-group-2/2026-06-06/
LOCATION:Glebe Town Hall\, 160 St Johns Rd\, Glebe\, New South Wales\, 2037\, Australia
CATEGORIES:Anxiety Program Events
ATTACH;FMTTYPE=image/jpeg:https://wayahead.org.au/wp-content/uploads/2025/01/ASG-online-group.jpg
GEO:'-33.878038;151.185016
X-APPLE-STRUCTURED-LOCATION;VALUE=URI;X-ADDRESS=Glebe Town Hall 160 St Johns Rd Glebe New South Wales 2037 Australia;X-APPLE-RADIUS=500;X-TITLE=160 St Johns Rd:geo:151.185016,'-33.878038
END:VEVENT
BEGIN:VEVENT
DTSTART;TZID=Australia/Sydney:20260608T183000
DTEND;TZID=Australia/Sydney:20260608T203000
DTSTAMP:20260420T164018
CREATED:20260312T043205Z
LAST-MODIFIED:20260312T043206Z
UID:10005913-1780943400-1780950600@wayahead.org.au
SUMMARY:Cronulla Anxiety Support Group
DESCRIPTION:You must register if you wish to attend this group.  You can register by emailing supportgroups@wayahead.org.au or by phone 1300 794 992.\n\nWayahead’s Cronulla Anxiety Support Group is run by Angela and Trecia at Cronulla RSL on the 2nd Monday of the month from 6.30pm to 8.30pm. \nOur groups are usually comprised of a small number of people who come together to share personal experiences and information in a safe\, friendly and supportive environment. \nAll Wayahead support groups are free of charge. \nSoldiers Room 4\, Cronulla RSL\, 38 Gerrale St\, Cronulla \nIMPORTANT – This is not a treatment group. It is a place where people who are impacted by anxiety can give and receive support related to living with and managing their anxiety. It is facilitated by trained volunteers who have a diverse range of experiences but who are not qualified health professionals. As such\, this group is not suitable for people with high levels of mental distress which may be associated with psychosis\, severe depression or active post traumatic stress disorder (PTSD). We recommend that you do not attend this group if you are experiencing high levels of distress as it is unlikely that it will able to meet your needs. \nFor more information\, or to discuss whether this group is suitable for you\, please call 1300 794 992 or email supportgroups@wayahead.org.au.
URL:https://wayahead.org.au/event/cronulla-anxiety-support-group-2/2026-06-08/
LOCATION:Cronulla RSL\, 38R Gerrale St\, Cronulla NSW 2230\, Cronulla\, New South Wales\, 2230\, Australia
CATEGORIES:Anxiety Program Events
ATTACH;FMTTYPE=image/jpeg:https://wayahead.org.au/wp-content/uploads/2025/01/ASG-online-group.jpg
END:VEVENT
BEGIN:VEVENT
DTSTART;TZID=Australia/Sydney:20260609T183000
DTEND;TZID=Australia/Sydney:20260609T203000
DTSTAMP:20260420T164018
CREATED:20250130T023136Z
LAST-MODIFIED:20260311T054126Z
UID:10001567-1781029800-1781037000@wayahead.org.au
SUMMARY:Campbelltown Anxiety Support Group
DESCRIPTION:You must register if you wish to attend this group.  You can register by emailing supportgroups@wayahead.org.au or by phone 1300 794 992. \nWayahead’s Campbelltown Anxiety Support Group is run by Olga and Raj in the Multipurpose Room of the Campbelltown Uniting Church on the 2nd Tuesday of the month from 6.30pm to 8.30pm. \nOur groups are usually comprised of a small number of people who come together to share personal experiences and information in a safe\, friendly and supportive environment. \nAll Wayahead support groups are free of charge. \nProspective attendees are advised to check this page in the days before the group is scheduled to take place to make sure there haven’t been any changes or cancellations. Any such deviations from the information above will be announced in orange at the top of the page. \nIMPORTANT – This is not a treatment group. It is a place where people who are impacted by anxiety can give and receive support related to living with and managing their anxiety. It is facilitated by trained volunteers who have a diverse range of experiences but who are not qualified health professionals. As such\, this group is not suitable for people with high levels of mental distress which may be associated with psychosis\, severe depression or active post traumatic stress disorder (PTSD). We recommend that you do not attend this group if you are experiencing high levels of distress as it is unlikely that it will able to meet your needs. \nFor more information\, or to discuss whether this group is suitable for you\, please call 1300 794 992 or email supportgroups@wayahead.org.au.
URL:https://wayahead.org.au/event/campbelltown-anxiety-support-group-9/2026-06-09/
LOCATION:Campbelltown Uniting Church\, Allman Street\, Moore-Oxley Bypass\, Campbelltown\, NSW\, 2560\, Australia
CATEGORIES:Anxiety Program Events
ATTACH;FMTTYPE=image/jpeg:https://wayahead.org.au/wp-content/uploads/2025/01/ASG-online-group.jpg
GEO:'-34.0699591;150.8133696
X-APPLE-STRUCTURED-LOCATION;VALUE=URI;X-ADDRESS=Campbelltown Uniting Church Allman Street Moore-Oxley Bypass Campbelltown NSW 2560 Australia;X-APPLE-RADIUS=500;X-TITLE=Allman Street\, Moore-Oxley Bypass:geo:150.8133696,'-34.0699591
END:VEVENT
BEGIN:VEVENT
DTSTART;TZID=Australia/Sydney:20260609T190000
DTEND;TZID=Australia/Sydney:20260609T210000
DTSTAMP:20260420T164018
CREATED:20260225T011352Z
LAST-MODIFIED:20260225T011353Z
UID:10008485-1781031600-1781038800@wayahead.org.au
SUMMARY:Bondi Junction Support Group
DESCRIPTION:Join Lisa\, Simon and Tom and members of the Bondi Junction Support Group on the 2nd Tuesday of the month at 7pm in Room A\, Bondi School of Arts\, 138 Bondi Road\, Bondi.
URL:https://wayahead.org.au/event/bondi-junction-support-group-11-2-2/2026-06-09/
LOCATION:Bondi School of Arts\, 138 Bondi Road\, Bondi
CATEGORIES:Anxiety Program Events
END:VEVENT
BEGIN:VEVENT
DTSTART;TZID=Australia/Sydney:20260612T110000
DTEND;TZID=Australia/Sydney:20260612T130000
DTSTAMP:20260420T164018
CREATED:20250130T042824Z
LAST-MODIFIED:20260225T015210Z
UID:10004249-1781262000-1781269200@wayahead.org.au
SUMMARY:Liverpool Anxiety Support Group
DESCRIPTION:You must register if you wish to attend this group.  You can register by emailing supportgroups@wayahead.org.au or by phone 1300 794 992.\nWayahead’s Liverpool Anxiety Support Group is run by Iqra & Rachel at the Liverpool Community Centre on the 2nd Friday of the month from 11am to 1pm. \nOur groups are usually comprised of a small number of people who come together to share personal experiences and information in a safe\, friendly and supportive environment. \nAll Wayahead support groups are free of charge. \nIMPORTANT – This is not a treatment group. It is a place where people who are impacted by anxiety can give and receive support related to living with and managing their anxiety. It is facilitated by trained volunteers who have a diverse range of experiences but who are not qualified health professionals. As such\, this group is not suitable for people with high levels of mental distress which may be associated with psychosis\, severe depression or active post traumatic stress disorder (PTSD). We recommend that you do not attend this group if you are experiencing high levels of distress as it is unlikely that it will able to meet your needs. \nFor more information\, or to discuss whether this group is suitable for you\, please call 1300 794 992 or email supportgroups@wayahead.org.au.
URL:https://wayahead.org.au/event/liverpool-anxiety-support-group/2026-06-12/
LOCATION:Liverpool Community Centre\, 14B Mill Road\, Liverpool\, Australia
CATEGORIES:Anxiety Program Events
ATTACH;FMTTYPE=image/jpeg:https://wayahead.org.au/wp-content/uploads/2025/01/ASG-online-group.jpg
END:VEVENT
BEGIN:VEVENT
DTSTART;TZID=Australia/Sydney:20260613T110000
DTEND;TZID=Australia/Sydney:20260613T130000
DTSTAMP:20260420T164018
CREATED:20250306T045920Z
LAST-MODIFIED:20260311T053811Z
UID:10001149-1781348400-1781355600@wayahead.org.au
SUMMARY:Ballina Anxiety Support Group
DESCRIPTION:You must register if you wish to attend this group.  You can register by emailing supportgroups@wayahead.org.au or by phone 1300 794 992. \nWayahead’s Ballina Anxiety Support Group is run by Mark and Meg at the CWA Hall on the 2nd Saturday of the month from 11am to 1pm. \nOur groups are usually comprised of a small number of people who come together to share personal experiences and information in a safe\, friendly and supportive environment. \nAll Wayahead support groups are free of charge. \nProspective attendees are advised to check this page in the days before the group is scheduled to take place to make sure there haven’t been any changes or cancellations. Any such deviations from the information above will be announced in orange at the top of the page. \nIMPORTANT – This is not a treatment group. It is a place where people who are impacted by anxiety can give and receive support related to living with and managing their anxiety. It is facilitated by trained volunteers who have a diverse range of experiences but who are not qualified health professionals. As such\, this group is not suitable for people with high levels of mental distress which may be associated with psychosis\, severe depression or active post traumatic stress disorder (PTSD). We recommend that you do not attend this group if you are experiencing high levels of distress as it is unlikely that it will able to meet your needs. \nFor more information\, or to discuss whether this group is suitable for you\, please call 1300 794 992 or email supportgroups@wayahead.org.au.
URL:https://wayahead.org.au/event/ballina-anxiety-support-group-2/2026-06-13/
LOCATION:CWA Hall\, 236 River Street\, Ballina\, NSW\, 2478\, Australia
CATEGORIES:Anxiety Program Events
ATTACH;FMTTYPE=image/jpeg:https://wayahead.org.au/wp-content/uploads/2025/01/ASG-online-group.jpg
END:VEVENT
BEGIN:VEVENT
DTSTART;TZID=Australia/Sydney:20260613T110000
DTEND;TZID=Australia/Sydney:20260613T130000
DTSTAMP:20260420T164018
CREATED:20260113T031522Z
LAST-MODIFIED:20260113T031522Z
UID:10008183-1781348400-1781355600@wayahead.org.au
SUMMARY:Katoomba Anxiety Support Group
DESCRIPTION:
URL:https://wayahead.org.au/event/katoomba-anxiety-support-group-2/2026-06-13/
LOCATION:Katoomba Guide Hall\, 17 Station Street\, 2780
END:VEVENT
BEGIN:VEVENT
DTSTART;TZID=Australia/Sydney:20260613T110000
DTEND;TZID=Australia/Sydney:20260613T130000
DTSTAMP:20260420T164018
CREATED:20260319T034044Z
LAST-MODIFIED:20260319T034045Z
UID:10005329-1781348400-1781355600@wayahead.org.au
SUMMARY:Women's Online Anxiety Support Group
DESCRIPTION:Wayahead’s Women’s Online Anxiety Support group is run by Alishba\, Muuskan and Sandra on the 2nd Saturday of the month at 11am. \nIf you would like to attend this group please register here \nOur online groups are usually comprised of a small number of people who come together over Zoom to share personal experiences and information in a safe\, friendly and supportive environment. \nAll Wayahead support groups are free of charge. \nIMPORTANT – This is not a treatment group. It is a place where people who are impacted by anxiety can give and receive support related to living with and managing their anxiety. It is facilitated by trained volunteers who have a diverse range of experiences but who are not qualified health professionals. As such\, this group is not suitable for people with high levels of mental distress which may be associated with psychosis\, severe depression or active post traumatic stress disorder (PTSD). We recommend that you do not attend this group if you are experiencing high levels of distress as it is unlikely that it will able to meet your needs. \nFor more information\, or to discuss whether this group is suitable for you\, please call 1300 794 992 or email supportgroups@wayahead.org.au.
URL:https://wayahead.org.au/event/womens-online-anxiety-support-group-2-2/2026-06-13/
LOCATION:Venue TBA\, New South Wales\, Australia
CATEGORIES:Anxiety Program Events
ATTACH;FMTTYPE=image/jpeg:https://wayahead.org.au/wp-content/uploads/2025/01/ASG-Mens-Group-1.jpg
GEO:'-33.886186;151.2085076
END:VEVENT
END:VCALENDAR