BEGIN:VCALENDAR
VERSION:2.0
PRODID:-//Wayahead - ECPv6.15.20//NONSGML v1.0//EN
CALSCALE:GREGORIAN
METHOD:PUBLISH
X-WR-CALNAME:Wayahead
X-ORIGINAL-URL:https://wayahead.org.au
X-WR-CALDESC:Events for Wayahead
REFRESH-INTERVAL;VALUE=DURATION:PT1H
X-Robots-Tag:noindex
X-PUBLISHED-TTL:PT1H
BEGIN:VTIMEZONE
TZID:Australia/Sydney
BEGIN:STANDARD
TZOFFSETFROM:+1100
TZOFFSETTO:+1000
TZNAME:AEST
DTSTART:20250405T160000
END:STANDARD
BEGIN:DAYLIGHT
TZOFFSETFROM:+1000
TZOFFSETTO:+1100
TZNAME:AEDT
DTSTART:20251004T160000
END:DAYLIGHT
BEGIN:STANDARD
TZOFFSETFROM:+1100
TZOFFSETTO:+1000
TZNAME:AEST
DTSTART:20260404T160000
END:STANDARD
BEGIN:DAYLIGHT
TZOFFSETFROM:+1000
TZOFFSETTO:+1100
TZNAME:AEDT
DTSTART:20261003T160000
END:DAYLIGHT
BEGIN:STANDARD
TZOFFSETFROM:+1100
TZOFFSETTO:+1000
TZNAME:AEST
DTSTART:20270403T160000
END:STANDARD
BEGIN:DAYLIGHT
TZOFFSETFROM:+1000
TZOFFSETTO:+1100
TZNAME:AEDT
DTSTART:20271002T160000
END:DAYLIGHT
END:VTIMEZONE
BEGIN:VEVENT
DTSTART;TZID=Australia/Sydney:20260427T190000
DTEND;TZID=Australia/Sydney:20260427T210000
DTSTAMP:20260419T231754
CREATED:20260211T043910Z
LAST-MODIFIED:20260312T044119Z
UID:10008412-1777316400-1777323600@wayahead.org.au
SUMMARY:Online OCD Support Group
DESCRIPTION:The Online OCD Support Group Support Group is a free\, monthly space for people living with OCD to connect with others who understand. OCD can be isolating\, especially for those living regionally\, caring for others\, retired\, in recovery\, managing chronic health conditions\, taking time away from work or study\, or finding it hard to leave the house. This group offers a safe and calm\, peer-led space where you can feel a little less alone. There’s no pressure to speak. You’re welcome to listen\, share\, or simply be present. We meet via Zoom every 4th Monday of the month from 7pm to 9pm (Sydney/Melbourne time).
URL:https://wayahead.org.au/event/online-ocd-support-group/2026-04-27/
LOCATION:https://wayahead-org-au.zoom.us/j/87558568591?pwd=yOhrj5FIluABJ2RazE8Sp1WaX9oiRb.1
CATEGORIES:Anxiety Program Events
ATTACH;FMTTYPE=image/jpeg:https://wayahead.org.au/wp-content/uploads/2025/01/ASG-online-group.jpg
END:VEVENT
END:VCALENDAR